{ "currentVersion": 11.3, "serviceDescription": "
Florida Forever Measure C8: The number of acres of functional wetland systems protected. Value 1 = Priority 1 (Highest) Value 2 = Priority 2 Value 3 = Priority 3 Value 4 = Priority 4 Value 5 = Priority 5 Value 6 = Priority 6 Degree of disturbance was assumed to be an indicator of functionality. We created a functional wetlands data layer by first selecting all wetland land cover classes within the Cooperative Land Cover v3.3. Wetlands were assigned priorities based on natural quality using a Land Use Intensity index (LUI) developed by Tom Hoctor at the University of Florida (September 2013, updated by FNAI 2018) and the FNAI Potential Natural Areas (PNA; 2018). For a complete description please refer to: Conservation Needs Assessment Technical Report. Florida Natural Areas Inventory, Tallahassee, FL (available online at https://www.fnai.org/conslands/florida-forever).<\/SPAN><\/P><\/DIV><\/DIV><\/DIV>",
"name": "AK_TEST/Functional_Wetlands",
"description": " Florida Forever Measure C8: The number of acres of functional wetland systems protected. Value 1 = Priority 1 (Highest) Value 2 = Priority 2 Value 3 = Priority 3 Value 4 = Priority 4 Value 5 = Priority 5 Value 6 = Priority 6 Degree of disturbance was assumed to be an indicator of functionality. We created a functional wetlands data layer by first selecting all wetland land cover classes within the Cooperative Land Cover v3.3. Wetlands were assigned priorities based on natural quality using a Land Use Intensity index (LUI) developed by Tom Hoctor at the University of Florida (September 2013, updated by FNAI 2018) and the FNAI Potential Natural Areas (PNA; 2018). For a complete description please refer to: Conservation Needs Assessment Technical Report. Florida Natural Areas Inventory, Tallahassee, FL (available online at https://www.fnai.org/conslands/florida-forever).<\/SPAN><\/P><\/DIV><\/DIV><\/DIV>",
"extent": {
"xmin": -9775330.391914615,
"ymin": 2778372.6630642083,
"xmax": -8865235.391914615,
"ymax": 3657162.6630642083,
"spatialReference": {
"wkid": 102100,
"latestWkid": 3857
}
},
"initialExtent": {
"xmin": -9775330.391914615,
"ymin": 2778372.6630642083,
"xmax": -8865235.391914615,
"ymax": 3657162.6630642083,
"spatialReference": {
"wkid": 102100,
"latestWkid": 3857
}
},
"fullExtent": {
"xmin": -9775330.391914615,
"ymin": 2778372.6630642083,
"xmax": -8865235.391914615,
"ymax": 3657162.6630642083,
"spatialReference": {
"wkid": 102100,
"latestWkid": 3857
}
},
"sortableFields": "",
"bandCount": 1,
"pixelType": "U8",
"minValues": [
1
],
"maxValues": [
6
],
"meanValues": [
2.2170044622792
],
"stdvValues": [
1.3079517866939
],
"hasMultidimensions": false,
"pixelSizeX": 15,
"pixelSizeY": 15,
"meanPixelSize": 15,
"datasetFormat": "TIFF",
"uncompressedSize": 3554588378,
"blockWidth": 128,
"blockHeight": 128,
"compressionType": "LZW",
"bandNames": [
"Band_1"
],
"allowCopy": true,
"allowAnalysis": true,
"itemAccess": false,
"inspectionCapabilities": "",
"noDataValue": 15,
"noDataValues": [
15
],
"minPixelSize": 0,
"maxPixelSize": 0,
"copyrightText": "Florida Natural Areas Inventory",
"serviceDataType": "esriImageServiceDataTypeThematic",
"serviceSourceType": "esriImageServiceSourceTypeDataset",
"objectIdField": "",
"fields": [],
"capabilities": "Image,Metadata,Mensuration",
"defaultMosaicMethod": "Center",
"allowedMosaicMethods": "",
"sortField": "",
"sortValue": null,
"sortAscending": true,
"mosaicOperator": "First",
"defaultCompressionQuality": 75,
"defaultResamplingMethod": "Nearest",
"maxImageHeight": 4100,
"maxImageWidth": 15000,
"allowRasterFunction": true,
"rasterFunctionInfos": [
{
"name": "None",
"description": "",
"help": ""
}
],
"rasterTypeInfos": [
{
"name": "Raster Dataset",
"description": "Supports all ArcGIS Raster Datasets",
"help": ""
}
],
"mensurationCapabilities": "Basic",
"hasHistograms": true,
"hasColormap": false,
"hasRasterAttributeTable": true,
"minScale": 0,
"maxScale": 0,
"exportTilesAllowed": false,
"supportsStatistics": false,
"supportsAdvancedQueries": false,
"editFieldsInfo": null,
"ownershipBasedAccessControlForRasters": null,
"allowComputeTiePoints": false,
"useStandardizedQueries": true,
"advancedQueryCapabilities": {
"useStandardizedQueries": true,
"supportsStatistics": false,
"supportsOrderBy": false,
"supportsDistinct": false,
"supportsPagination": false
},
"spatialReference": {
"wkid": 102100,
"latestWkid": 3857
}
}