<?xml version="1.0" encoding="UTF-8" standalone="no"?>
<metadata xml:lang="en">
<Esri>
<CreaDate>20251117</CreaDate>
<CreaTime>14013600</CreaTime>
<ArcGISFormat>1.0</ArcGISFormat>
<SyncOnce>FALSE</SyncOnce>
<DataProperties>
<itemProps>
<imsContentType Sync="TRUE">002</imsContentType>
<itemName Sync="TRUE">Sustainable_Forestry_2025.tif</itemName>
<nativeExtBox>
<westBL Sync="TRUE">-9775330.391915</westBL>
<eastBL Sync="TRUE">-8865235.391915</eastBL>
<southBL Sync="TRUE">2778372.663064</southBL>
<northBL Sync="TRUE">3657162.663064</northBL>
<exTypeCode Sync="TRUE">1</exTypeCode>
</nativeExtBox>
</itemProps>
<coordRef>
<type Sync="TRUE">Projected</type>
<geogcsn Sync="TRUE">GCS_WGS_1984</geogcsn>
<csUnits Sync="TRUE">Linear Unit: Meter (1.000000)</csUnits>
<projcsn Sync="TRUE">WGS_1984_Web_Mercator_Auxiliary_Sphere</projcsn>
<peXml Sync="TRUE">&lt;ProjectedCoordinateSystem xsi:type='typens:ProjectedCoordinateSystem' xmlns:xsi='http://www.w3.org/2001/XMLSchema-instance' xmlns:xs='http://www.w3.org/2001/XMLSchema' xmlns:typens='http://www.esri.com/schemas/ArcGIS/3.6.0'&gt;&lt;WKT&gt;PROJCS[&amp;quot;WGS_1984_Web_Mercator_Auxiliary_Sphere&amp;quot;,GEOGCS[&amp;quot;GCS_WGS_1984&amp;quot;,DATUM[&amp;quot;D_WGS_1984&amp;quot;,SPHEROID[&amp;quot;WGS_1984&amp;quot;,6378137.0,298.257223563]],PRIMEM[&amp;quot;Greenwich&amp;quot;,0.0],UNIT[&amp;quot;Degree&amp;quot;,0.0174532925199433]],PROJECTION[&amp;quot;Mercator_Auxiliary_Sphere&amp;quot;],PARAMETER[&amp;quot;False_Easting&amp;quot;,0.0],PARAMETER[&amp;quot;False_Northing&amp;quot;,0.0],PARAMETER[&amp;quot;Central_Meridian&amp;quot;,0.0],PARAMETER[&amp;quot;Standard_Parallel_1&amp;quot;,0.0],PARAMETER[&amp;quot;Auxiliary_Sphere_Type&amp;quot;,0.0],UNIT[&amp;quot;Meter&amp;quot;,1.0],AUTHORITY[&amp;quot;EPSG&amp;quot;,3857]]&lt;/WKT&gt;&lt;XOrigin&gt;-20037700&lt;/XOrigin&gt;&lt;YOrigin&gt;-30241100&lt;/YOrigin&gt;&lt;XYScale&gt;148923141.92838538&lt;/XYScale&gt;&lt;ZOrigin&gt;-100000&lt;/ZOrigin&gt;&lt;ZScale&gt;10000&lt;/ZScale&gt;&lt;MOrigin&gt;-100000&lt;/MOrigin&gt;&lt;MScale&gt;10000&lt;/MScale&gt;&lt;XYTolerance&gt;0.001&lt;/XYTolerance&gt;&lt;ZTolerance&gt;0.001&lt;/ZTolerance&gt;&lt;MTolerance&gt;0.001&lt;/MTolerance&gt;&lt;HighPrecision&gt;true&lt;/HighPrecision&gt;&lt;WKID&gt;102100&lt;/WKID&gt;&lt;LatestWKID&gt;3857&lt;/LatestWKID&gt;&lt;/ProjectedCoordinateSystem&gt;</peXml>
</coordRef>
<RasterProperties>
<General>
<PixelDepth Sync="TRUE">8</PixelDepth>
<HasColormap Sync="TRUE">FALSE</HasColormap>
<CompressionType Sync="TRUE">LZW</CompressionType>
<NumBands Sync="TRUE">1</NumBands>
<Format Sync="TRUE">TIFF</Format>
<HasPyramids Sync="TRUE">TRUE</HasPyramids>
<SourceType Sync="TRUE">continuous</SourceType>
<PixelType Sync="TRUE">unsigned integer</PixelType>
<NoDataValue Sync="TRUE">15</NoDataValue>
</General>
</RasterProperties>
</DataProperties>
<scaleRange>
<minScale>150000000</minScale>
<maxScale>5000</maxScale>
</scaleRange>
<SyncDate>20251118</SyncDate>
<SyncTime>12244000</SyncTime>
<ModDate>20251118</ModDate>
<ModTime>12250700</ModTime>
<ArcGISProfile>ISO19139</ArcGISProfile>
</Esri>
<mdLang>
<languageCode Sync="TRUE" value="eng">
</languageCode>
<countryCode Sync="TRUE" value="USA">
</countryCode>
</mdLang>
<mdChar>
<CharSetCd value="004">
</CharSetCd>
</mdChar>
<mdHrLv>
<ScopeCd value="005">
</ScopeCd>
</mdHrLv>
<mdHrLvName Sync="TRUE">dataset</mdHrLvName>
<mdContact>
<rpIndName>Amy Knight</rpIndName>
<rpOrgName>Florida Natural Areas Inventory</rpOrgName>
<rpPosName>GIS Program Specialist</rpPosName>
<rpCntInfo>
<cntPhone>
<voiceNum>850-224-8207</voiceNum>
</cntPhone>
<cntAddress addressType="both">
<delPoint>1018 Thomasville Rd, Suite 200-C</delPoint>
<city>Tallhassee</city>
<adminArea>FL</adminArea>
<postCode>32303</postCode>
</cntAddress>
</rpCntInfo>
<role>
<RoleCd value="007">
</RoleCd>
</role>
</mdContact>
<mdDateSt Sync="TRUE">20251118</mdDateSt>
<mdStanName>ArcGIS Metadata</mdStanName>
<mdStanVer>1.0</mdStanVer>
<distInfo>
<distributor>
<distorFormat>
<formatName>GRID</formatName>
</distorFormat>
</distributor>
<distTranOps>
<onLineSrc>
<linkage>withheld</linkage>
</onLineSrc>
</distTranOps>
<distFormat>
<formatName Sync="TRUE">Raster Dataset</formatName>
</distFormat>
</distInfo>
<dataIdInfo>
<idCitation>
<resTitle>Sustainable_Forestry_Test1</resTitle>
<date>
<pubDate>2024-10-01T00:00:00</pubDate>
<reviseDate>2025-10-15T00:00:00</reviseDate>
</date>
<resEd>2025</resEd>
<citRespParty>
<rpOrgName>Florida Natural Areas Inventory</rpOrgName>
<role>
<RoleCd value="006">
</RoleCd>
</role>
</citRespParty>
<presForm>
<PresFormCd value="005">
</PresFormCd>
</presForm>
<presForm>
<fgdcGeoform>raster digital data</fgdcGeoform>
</presForm>
<otherCitDet>For more information see the Florida Forever Conservation Needs Assessment Technical Report: https://www.fnai.org/conslands/florida-forever.</otherCitDet>
<datasetSeries>
<seriesName>FFCNA</seriesName>
<issId>Version 5</issId>
</datasetSeries>
</idCitation>
<idAbs>&lt;div style='text-align:Left;'&gt;&lt;div&gt;&lt;div&gt;&lt;p&gt;&lt;span&gt;Florida Forever Measure G1: The number of acres acquired that are available for sustainable forest management; and Measure G2: The number of acres of state-owned forestland managed for economic return in accordance with current Best Management Practices (BMPs). We consulted with forestry experts from the Division of Agriculture and Consumer Services/Florida Forest Service (FFS), the Florida Forestry Association, and the University of Florida on how best to define and represent both measures G1and G2 with existing geographic data. The statutory definition of sustainable forest management includes the ". . . reforestation, managing, growing, nurturing, and harvesting of trees for useful products . . ." (see S253.036, F.S.). According to forestry experts, this definition refers primarily to pine trees. &lt;/span&gt;&lt;span&gt;&lt;span&gt;The Sustainable Forestry data layer identifies existing pinelands that are potentially available for forest management&lt;/span&gt;&lt;/span&gt;&lt;span&gt;&lt;span&gt;.&lt;/span&gt;&lt;/span&gt;&lt;span&gt; Prioritization is based on 8 criteria set by the forestry experts: whether trees are natural or planted, size of tract, distance to market, site index (average total height that dominant and codominant pine trees obtain), access and operability, burn frequency, years since last burn, and landscape integrity&lt;/span&gt;&lt;span&gt;&lt;span&gt;.&lt;/span&gt;&lt;/span&gt;&lt;span&gt; For a complete description please refer to: the Florida Forever Conservation Needs Assessment Technical Report. Florida Natural Areas Inventory , Tallahassee, Florida (https://www.fnai.org/conslands/florida-forever).&lt;/span&gt;&lt;/p&gt;&lt;/div&gt;&lt;/div&gt;&lt;/div&gt;</idAbs>
<idPurp>The Sustainable Forestry data layer identifies existing pinelands that are potentially available for forest management. Prioritization is based on 8 criteria set by the Florida Forest Service: whether trees are natural or planted, size of tract, distance to market, site index (average total height that dominant and codominant pine trees obtain), access and operability, burn frequency, years since last burn, and landscape integrity. This data set was developed as part of the Florida Forever Conservation Needs Assessment. These data are intended to address specific performance measures of the Florida Forever program and may not be appropriate for general use, and are not intended for use in a regulatory decision-making process. Please refer to Knight, G. et al. 2000. Florida Forever Conservation Needs Assessment Summary Report. Florida Natural Areas Inventory. Tallahassee, Florida.</idPurp>
<idCredit>Florida Natural Areas Inventory</idCredit>
<idStatus>
<ProgCd value="001">
</ProgCd>
</idStatus>
<idPoC>
<rpOrgName>Florida Natural Areas Inventory</rpOrgName>
<rpCntInfo>
<cntPhone>
<voiceNum tddtty="">850-224-8207</voiceNum>
<faxNum>850-681-9364</faxNum>
</cntPhone>
<cntHours>8:00 a.m. - 5:00 p.m.</cntHours>
</rpCntInfo>
<role>
<RoleCd value="007">
</RoleCd>
</role>
</idPoC>
<resMaint>
<maintFreq>
<MaintFreqCd value="009">
</MaintFreqCd>
</maintFreq>
</resMaint>
<themeKeys>
<thesaName>
<resTitle>Florida Natural Areas Inventory</resTitle>
</thesaName>
<keyword>forestry</keyword>
<keyword>sustainable</keyword>
<keyword>plantation</keyword>
<keyword>pine</keyword>
</themeKeys>
<searchKeys>
<keyword>forestry</keyword>
<keyword>sustainable</keyword>
<keyword>plantation</keyword>
<keyword>pine</keyword>
</searchKeys>
<resConst>
<Consts>
<useLimit>&lt;div style='text-align:Left;'&gt;&lt;div&gt;&lt;div&gt;&lt;p&gt;&lt;span&gt;Permitted Uses: 1. User may produce maps, tables, and/or reports, using all or portions of the Data provided. All or portions of the Data may be merged directly into reports produced by the User. The appropriate Sources, as listed in Table 1, must be cited as the source of the Data in all products, publications, or presentations containing all or portions of the Data. 2. User may use all or portions of this Data, alone or together with other data, to perform original analysis. Users are strongly encouraged to collaborate with FNAI on all analyses to ensure full understanding of appropriate use of the Data. Any products, publications, or presentations based on such analysis must cite the appropriate Source, as listed in Table 1, for original data used in the analysis. Uses Not Permitted: 1. User shall not sublicense, sell, rent, lease, loan, transfer, assign, or provide access to electronic versions of these Data, in whole or in part, to unlicensed third parties, including clients or contractors. Printed versions of all or portions of these Data may only be provided to clients as part of a larger service which is contracted by the client. 2. The original Source, as listed in Table 1, must not be cited as the source of any interpretations or analyses performed on these Data by the User. The User is solely responsible for any interpretation or manipulation of the Data. 3. These Data shall not be used as the primary criteria for regulatory permitting decisions. 4. User shall not use all or portions of these Data, in electronic, print, or other medium, to create products for distribution and sale that rely principally upon these Data.&lt;/span&gt;&lt;/p&gt;&lt;/div&gt;&lt;/div&gt;&lt;/div&gt;</useLimit>
</Consts>
</resConst>
<resConst>
<LegConsts>
<accessConsts>
<RestrictCd value="008">
</RestrictCd>
</accessConsts>
<othConsts>The Florida Forever Conservation Needs Assessment data are available online, subject to a data use agreement.</othConsts>
</LegConsts>
</resConst>
<spatRpType>
<SpatRepTypCd value="002">
</SpatRepTypCd>
</spatRpType>
<envirDesc>ESRI ArcCatalog 9.3.1.3000</envirDesc>
<dataExt>
<exDesc>publication date</exDesc>
</dataExt>
<dataLang>
<languageCode Sync="TRUE" value="eng">
</languageCode>
<countryCode Sync="TRUE" value="USA">
</countryCode>
</dataLang>
<dataExt>
<geoEle>
<GeoBndBox esriExtentType="search">
<exTypeCode Sync="TRUE">1</exTypeCode>
<westBL Sync="TRUE">-87.813287</westBL>
<eastBL Sync="TRUE">-79.637764</eastBL>
<northBL Sync="TRUE">31.187800</northBL>
<southBL Sync="TRUE">24.204709</southBL>
</GeoBndBox>
</geoEle>
</dataExt>
<dataChar>
<CharSetCd value="004">
</CharSetCd>
</dataChar>
</dataIdInfo>
<dqInfo>
<dqScope>
<scpLvl>
<ScopeCd value="005">
</ScopeCd>
</scpLvl>
</dqScope>
<report type="DQConcConsis">
<measDesc>Data have been checked for consistency</measDesc>
</report>
<report type="DQCompOm">
<measDesc>For a complete description please refer to: Florida Forever Conservation Needs Assessment Technical Report. Florida Natural Areas Inventory , Tallahassee, Florida (available for download from www.fnai.org).</measDesc>
</report>
<dataLineage>
<statement>For process details see the Florida Forever Conservation Needs Assessment Technical Report: https://www.fnai.org/conslands/florida-forever.</statement>
</dataLineage>
</dqInfo>
<spatRepInfo>
<Georect>
<numDims>3</numDims>
<axisDimension type="001">
<dimSize>25207</dimSize>
<dimResol>
<value Sync="TRUE" uom="m">15.000000</value>
</dimResol>
</axisDimension>
<axisDimension type="002">
<dimSize>25147</dimSize>
<dimResol>
<value Sync="TRUE" uom="m">15.000000</value>
</dimResol>
</axisDimension>
<axisDimension type="003">
<dimSize>1</dimSize>
</axisDimension>
<cellGeo>
<CellGeoCd Sync="TRUE" value="002">
</CellGeoCd>
</cellGeo>
<tranParaAv Sync="TRUE">1</tranParaAv>
<chkPtAv Sync="TRUE">0</chkPtAv>
<cornerPts>
<pos Sync="TRUE">-9775330.391915 2778372.663064</pos>
</cornerPts>
<cornerPts>
<pos Sync="TRUE">-9775330.391915 3657162.663064</pos>
</cornerPts>
<cornerPts>
<pos Sync="TRUE">-8865235.391915 3657162.663064</pos>
</cornerPts>
<cornerPts>
<pos Sync="TRUE">-8865235.391915 2778372.663064</pos>
</cornerPts>
<centerPt>
<pos Sync="TRUE">-9320282.891915 3217767.663064</pos>
</centerPt>
<ptInPixel>
<PixOrientCd Sync="TRUE" value="001">
</PixOrientCd>
</ptInPixel>
</Georect>
</spatRepInfo>
<refSysInfo>
<RefSystem>
<refSysID>
<identCode Sync="TRUE" code="3857">
</identCode>
<idCodeSpace Sync="TRUE">EPSG</idCodeSpace>
<idVersion Sync="TRUE">6.18.3(9.3.1.2)</idVersion>
</refSysID>
</RefSystem>
</refSysInfo>
<contInfo>
<ImgDesc>
<contentTyp>
<ContentTypCd Sync="TRUE" value="001">
</ContentTypCd>
</contentTyp>
<covDim>
<Band>
<dimDescrp Sync="TRUE">Band_1</dimDescrp>
<maxVal Sync="TRUE">5.000000</maxVal>
<minVal Sync="TRUE">1.000000</minVal>
<bitsPerVal Sync="TRUE">8</bitsPerVal>
<valUnit>
<UOM type="length">
</UOM>
</valUnit>
</Band>
</covDim>
</ImgDesc>
</contInfo>
<eainfo>
<detailed Name="Sustainable_Forestry_2025.tif.vat">
<enttyp>
<enttypl>Sustainable Forestry</enttypl>
<enttypt Sync="TRUE">Table</enttypt>
<enttypc Sync="TRUE">5</enttypc>
</enttyp>
<attr>
<attrlabl Sync="TRUE">OID</attrlabl>
<attalias Sync="TRUE">OID</attalias>
<attrtype Sync="TRUE">OID</attrtype>
<attwidth Sync="TRUE">4</attwidth>
<atprecis Sync="TRUE">0</atprecis>
<attscale Sync="TRUE">0</attscale>
<attrdef Sync="TRUE">Internal feature number.</attrdef>
<attrdefs Sync="TRUE">Esri</attrdefs>
<attrdomv>
<udom Sync="TRUE">Sequential unique whole numbers that are automatically generated.</udom>
</attrdomv>
</attr>
<attr>
<attrlabl>VALUE</attrlabl>
<attrdef>Priority level of a grid cell with 1 being highest priority.</attrdef>
<attrdefs>Florida Natural Areas Inventory</attrdefs>
<attrtype>Integer</attrtype>
<attalias Sync="TRUE">Value</attalias>
<attwidth Sync="TRUE">10</attwidth>
<atprecis Sync="TRUE">10</atprecis>
<attscale Sync="TRUE">0</attscale>
</attr>
<attr>
<attrlabl>COUNT</attrlabl>
<attrdef>Number of grid cells with the same value</attrdef>
<attrdefs>ESRI</attrdefs>
<attrtype>Integer</attrtype>
<attalias Sync="TRUE">Count</attalias>
<attwidth Sync="TRUE">19</attwidth>
<atprecis Sync="TRUE">0</atprecis>
<attscale Sync="TRUE">0</attscale>
</attr>
<attr>
<attrlabl Sync="TRUE">Red</attrlabl>
<attalias Sync="TRUE">Red</attalias>
<attrtype Sync="TRUE">Integer</attrtype>
<attwidth Sync="TRUE">10</attwidth>
<atprecis Sync="TRUE">10</atprecis>
<attscale Sync="TRUE">0</attscale>
</attr>
<attr>
<attrlabl Sync="TRUE">Green</attrlabl>
<attalias Sync="TRUE">Green</attalias>
<attrtype Sync="TRUE">Integer</attrtype>
<attwidth Sync="TRUE">10</attwidth>
<atprecis Sync="TRUE">10</atprecis>
<attscale Sync="TRUE">0</attscale>
</attr>
<attr>
<attrlabl Sync="TRUE">Blue</attrlabl>
<attalias Sync="TRUE">Blue</attalias>
<attrtype Sync="TRUE">Integer</attrtype>
<attwidth Sync="TRUE">10</attwidth>
<atprecis Sync="TRUE">10</atprecis>
<attscale Sync="TRUE">0</attscale>
</attr>
<attr>
<attrlabl>RESOURCE</attrlabl>
<attrdef>Name of Florida Forever resource</attrdef>
<attrdefs>Florida Natural Areas Inventory</attrdefs>
<attalias Sync="TRUE">Resource</attalias>
<attrtype Sync="TRUE">String</attrtype>
<attwidth Sync="TRUE">60</attwidth>
<atprecis Sync="TRUE">0</atprecis>
<attscale Sync="TRUE">0</attscale>
</attr>
<attr>
<attrlabl>DESCRIP</attrlabl>
<attalias>DESCRIPTION</attalias>
<attrdef>Description of value</attrdef>
<attrdefs>Florida Natural Areas Inventory</attrdefs>
<attrtype>String</attrtype>
<attwidth>50</attwidth>
<atprecis Sync="TRUE">0</atprecis>
<attscale Sync="TRUE">0</attscale>
</attr>
</detailed>
<overview>
<eaover>Label field describes grid values</eaover>
</overview>
</eainfo>
</metadata>
