{ "currentVersion": 11.3, "serviceDescription": "
Florida Forever Measure G1: The number of acres acquired that are available for sustainable forest management; and Measure G2: The number of acres of state-owned forestland managed for economic return in accordance with current Best Management Practices (BMPs). We consulted with forestry experts from the Division of Agriculture and Consumer Services/Florida Forest Service (FFS), the Florida Forestry Association, and the University of Florida on how best to define and represent both measures G1and G2 with existing geographic data. The statutory definition of sustainable forest management includes the \". . . reforestation, managing, growing, nurturing, and harvesting of trees for useful products . . .\" (see S253.036, F.S.). According to forestry experts, this definition refers primarily to pine trees. <\/SPAN>The Sustainable Forestry data layer identifies existing pinelands that are potentially available for forest management<\/SPAN><\/SPAN>.<\/SPAN><\/SPAN> Prioritization is based on 8 criteria set by the forestry experts: whether trees are natural or planted, size of tract, distance to market, site index (average total height that dominant and codominant pine trees obtain), access and operability, burn frequency, years since last burn, and landscape integrity<\/SPAN>.<\/SPAN><\/SPAN> For a complete description please refer to: the Florida Forever Conservation Needs Assessment Technical Report. Florida Natural Areas Inventory , Tallahassee, Florida (https://www.fnai.org/conslands/florida-forever).<\/SPAN><\/P><\/DIV><\/DIV><\/DIV>",
"name": "AK_TEST/Sustainable_Forestry_Test2",
"description": " Florida Forever Measure G1: The number of acres acquired that are available for sustainable forest management; and Measure G2: The number of acres of state-owned forestland managed for economic return in accordance with current Best Management Practices (BMPs). We consulted with forestry experts from the Division of Agriculture and Consumer Services/Florida Forest Service (FFS), the Florida Forestry Association, and the University of Florida on how best to define and represent both measures G1and G2 with existing geographic data. The statutory definition of sustainable forest management includes the \". . . reforestation, managing, growing, nurturing, and harvesting of trees for useful products . . .\" (see S253.036, F.S.). According to forestry experts, this definition refers primarily to pine trees. <\/SPAN>The Sustainable Forestry data layer identifies existing pinelands that are potentially available for forest management<\/SPAN><\/SPAN>.<\/SPAN><\/SPAN> Prioritization is based on 8 criteria set by the forestry experts: whether trees are natural or planted, size of tract, distance to market, site index (average total height that dominant and codominant pine trees obtain), access and operability, burn frequency, years since last burn, and landscape integrity<\/SPAN>.<\/SPAN><\/SPAN> For a complete description please refer to: the Florida Forever Conservation Needs Assessment Technical Report. Florida Natural Areas Inventory , Tallahassee, Florida (https://www.fnai.org/conslands/florida-forever).<\/SPAN><\/P><\/DIV><\/DIV><\/DIV>",
"extent": {
"xmin": -9775330.391914615,
"ymin": 2778372.6630642083,
"xmax": -8865235.391914615,
"ymax": 3657162.6630642083,
"spatialReference": {
"wkid": 102100,
"latestWkid": 3857
}
},
"initialExtent": {
"xmin": -9775330.391914615,
"ymin": 2778372.6630642083,
"xmax": -8865235.391914615,
"ymax": 3657162.6630642083,
"spatialReference": {
"wkid": 102100,
"latestWkid": 3857
}
},
"fullExtent": {
"xmin": -9775330.391914615,
"ymin": 2778372.6630642083,
"xmax": -8865235.391914615,
"ymax": 3657162.6630642083,
"spatialReference": {
"wkid": 102100,
"latestWkid": 3857
}
},
"sortableFields": "",
"bandCount": 1,
"pixelType": "U8",
"minValues": [
1
],
"maxValues": [
5
],
"meanValues": [
3.0814511891828
],
"stdvValues": [
1.2226310660765
],
"hasMultidimensions": false,
"pixelSizeX": 15,
"pixelSizeY": 15,
"meanPixelSize": 15,
"datasetFormat": "TIFF",
"uncompressedSize": 3554588378,
"blockWidth": 128,
"blockHeight": 128,
"compressionType": "LZW",
"bandNames": [
"Band_1"
],
"allowCopy": true,
"allowAnalysis": true,
"itemAccess": false,
"inspectionCapabilities": "",
"noDataValue": 15,
"noDataValues": [
15
],
"minPixelSize": 0,
"maxPixelSize": 0,
"copyrightText": "Florida Natural Areas Inventory",
"serviceDataType": "esriImageServiceDataTypeThematic",
"serviceSourceType": "esriImageServiceSourceTypeDataset",
"objectIdField": "",
"fields": [],
"capabilities": "Image,Metadata,Mensuration",
"defaultMosaicMethod": "Center",
"allowedMosaicMethods": "",
"sortField": "",
"sortValue": null,
"sortAscending": true,
"mosaicOperator": "First",
"defaultCompressionQuality": 75,
"defaultResamplingMethod": "Nearest",
"maxImageHeight": 4100,
"maxImageWidth": 15000,
"allowRasterFunction": true,
"rasterFunctionInfos": [
{
"name": "None",
"description": "",
"help": ""
}
],
"rasterTypeInfos": [
{
"name": "Raster Dataset",
"description": "Supports all ArcGIS Raster Datasets",
"help": ""
}
],
"mensurationCapabilities": "Basic",
"hasHistograms": true,
"hasColormap": false,
"hasRasterAttributeTable": true,
"minScale": 0,
"maxScale": 0,
"exportTilesAllowed": false,
"supportsStatistics": false,
"supportsAdvancedQueries": false,
"editFieldsInfo": null,
"ownershipBasedAccessControlForRasters": null,
"allowComputeTiePoints": false,
"useStandardizedQueries": true,
"advancedQueryCapabilities": {
"useStandardizedQueries": true,
"supportsStatistics": false,
"supportsOrderBy": false,
"supportsDistinct": false,
"supportsPagination": false
},
"spatialReference": {
"wkid": 102100,
"latestWkid": 3857
}
}