<?xml version="1.0" encoding="UTF-8" standalone="no"?>
<metadata xml:lang="en">
<Esri>
<CreaDate>20251201</CreaDate>
<CreaTime>14223100</CreaTime>
<ArcGISFormat>1.0</ArcGISFormat>
<SyncOnce>FALSE</SyncOnce>
<DataProperties>
<itemProps>
<itemName Sync="TRUE">Aquifer_Recharge.tif</itemName>
<nativeExtBox>
<westBL Sync="TRUE">-9775330.394555</westBL>
<eastBL Sync="TRUE">-8865235.394555</eastBL>
<southBL Sync="TRUE">2778372.657239</southBL>
<northBL Sync="TRUE">3657162.657239</northBL>
<exTypeCode Sync="TRUE">1</exTypeCode>
</nativeExtBox>
<imsContentType Sync="TRUE">002</imsContentType>
</itemProps>
<coordRef>
<type Sync="TRUE">Projected</type>
<geogcsn Sync="TRUE">GCS_WGS_1984</geogcsn>
<csUnits Sync="TRUE">Linear Unit: Meter (1.000000)</csUnits>
<projcsn Sync="TRUE">WGS_1984_Web_Mercator_Auxiliary_Sphere</projcsn>
<peXml Sync="TRUE">&lt;ProjectedCoordinateSystem xsi:type='typens:ProjectedCoordinateSystem' xmlns:xsi='http://www.w3.org/2001/XMLSchema-instance' xmlns:xs='http://www.w3.org/2001/XMLSchema' xmlns:typens='http://www.esri.com/schemas/ArcGIS/3.4.0'&gt;&lt;WKT&gt;PROJCS[&amp;quot;WGS_1984_Web_Mercator_Auxiliary_Sphere&amp;quot;,GEOGCS[&amp;quot;GCS_WGS_1984&amp;quot;,DATUM[&amp;quot;D_WGS_1984&amp;quot;,SPHEROID[&amp;quot;WGS_1984&amp;quot;,6378137.0,298.257223563]],PRIMEM[&amp;quot;Greenwich&amp;quot;,0.0],UNIT[&amp;quot;Degree&amp;quot;,0.0174532925199433]],PROJECTION[&amp;quot;Mercator_Auxiliary_Sphere&amp;quot;],PARAMETER[&amp;quot;False_Easting&amp;quot;,0.0],PARAMETER[&amp;quot;False_Northing&amp;quot;,0.0],PARAMETER[&amp;quot;Central_Meridian&amp;quot;,0.0],PARAMETER[&amp;quot;Standard_Parallel_1&amp;quot;,0.0],PARAMETER[&amp;quot;Auxiliary_Sphere_Type&amp;quot;,0.0],UNIT[&amp;quot;Meter&amp;quot;,1.0],AUTHORITY[&amp;quot;EPSG&amp;quot;,3857]]&lt;/WKT&gt;&lt;XOrigin&gt;-20037700&lt;/XOrigin&gt;&lt;YOrigin&gt;-30241100&lt;/YOrigin&gt;&lt;XYScale&gt;148923141.92838538&lt;/XYScale&gt;&lt;ZOrigin&gt;-100000&lt;/ZOrigin&gt;&lt;ZScale&gt;10000&lt;/ZScale&gt;&lt;MOrigin&gt;-100000&lt;/MOrigin&gt;&lt;MScale&gt;10000&lt;/MScale&gt;&lt;XYTolerance&gt;0.001&lt;/XYTolerance&gt;&lt;ZTolerance&gt;0.001&lt;/ZTolerance&gt;&lt;MTolerance&gt;0.001&lt;/MTolerance&gt;&lt;HighPrecision&gt;true&lt;/HighPrecision&gt;&lt;WKID&gt;102100&lt;/WKID&gt;&lt;LatestWKID&gt;3857&lt;/LatestWKID&gt;&lt;/ProjectedCoordinateSystem&gt;</peXml>
</coordRef>
<RasterProperties>
<General>
<PixelDepth Sync="TRUE">8</PixelDepth>
<HasColormap Sync="TRUE">FALSE</HasColormap>
<CompressionType Sync="TRUE">LZW</CompressionType>
<NumBands Sync="TRUE">1</NumBands>
<Format Sync="TRUE">TIFF</Format>
<HasPyramids Sync="TRUE">TRUE</HasPyramids>
<SourceType Sync="TRUE">continuous</SourceType>
<PixelType Sync="TRUE">unsigned integer</PixelType>
<NoDataValue Sync="TRUE">15</NoDataValue>
</General>
</RasterProperties>
</DataProperties>
<SyncDate>20250610</SyncDate>
<SyncTime>11162500</SyncTime>
<ModDate>20250610</ModDate>
<ModTime>11165100</ModTime>
<ArcGISProfile>ISO19139</ArcGISProfile>
<scaleRange>
<minScale>150000000</minScale>
<maxScale>5000</maxScale>
</scaleRange>
</Esri>
<mdLang>
<languageCode value="eng">
</languageCode>
<countryCode Sync="TRUE" value="USA">
</countryCode>
</mdLang>
<mdChar>
<CharSetCd value="004">
</CharSetCd>
</mdChar>
<mdHrLv>
<ScopeCd value="005">
</ScopeCd>
</mdHrLv>
<mdHrLvName Sync="TRUE">dataset</mdHrLvName>
<mdContact>
<rpIndName>Amy Knight</rpIndName>
<rpOrgName>Florida Natural Areas Inventory</rpOrgName>
<rpPosName>GIS Program Specialist</rpPosName>
<rpCntInfo>
<cntPhone>
<voiceNum>850-224-8207</voiceNum>
</cntPhone>
<cntAddress addressType="both">
<delPoint>1018 Thomasville Rd, Suite 200-C</delPoint>
<city>Tallahassee</city>
<adminArea>FL</adminArea>
<postCode>32303</postCode>
</cntAddress>
</rpCntInfo>
<role>
<RoleCd value="007">
</RoleCd>
</role>
</mdContact>
<mdDateSt Sync="TRUE">20250610</mdDateSt>
<mdStanName>ArcGIS Metadata</mdStanName>
<mdStanVer>1.0</mdStanVer>
<distInfo>
<distTranOps>
<onLineSrc>
<linkage>withheld</linkage>
</onLineSrc>
</distTranOps>
<distFormat>
<formatName Sync="TRUE">Raster Dataset</formatName>
</distFormat>
</distInfo>
<dataIdInfo>
<idCitation>
<resTitle>Aquifer_Recharge_FFCNA</resTitle>
<citRespParty>
<rpOrgName>Florida Natural Areas Inventory</rpOrgName>
<role>
<RoleCd value="006">
</RoleCd>
</role>
</citRespParty>
<presForm>
<PresFormCd value="005">
</PresFormCd>
</presForm>
<presForm>
<fgdcGeoform>raster digital data</fgdcGeoform>
</presForm>
<otherCitDet>Florida Forever Conservation Needs Assessment Technical Report. Florida Natural Areas Inventory. Tallahassee, Florida (available online at www.fnai.org).</otherCitDet>
</idCitation>
<idAbs>This dataset was developed to provide scientific decision support and measure progress for preservation of resources associated with Florida Forever Measure D3: The number of acres acquired of groundwater recharge areas critical to springs, sinks, aquifers, other natural systems, or water supply. The data are prioritized based on features that contribute to aquifer vulnerability such as swallets, thickness of the intermediate aquifer confining unit and closed topographical depressions, as well as areas within springshed protection zones and in proximity to public water supply wells. For more information see the Conservation Needs Assessment Technical Report: https://www.fnai.org/conslands/florida-forever.
Value 1 = Priority 1 (Highest); Value 2 = Priority 2; Value 3 = Priority 3; Value 4 = Priority 4; Value 5 = Priority 5; Value 6 = Priority 6</idAbs>
<idPurp>Prioritized Aquifer Recharge: The ground water recharge dataset identifies areas of potential recharge important for natural systems and human use. </idPurp>
<idCredit>FGS; FNAI</idCredit>
<idStatus>
<ProgCd value="001">
</ProgCd>
</idStatus>
<idPoC>
<rpOrgName>Florida Natural Areas Inventory</rpOrgName>
<rpCntInfo>
<cntPhone>
<voiceNum>850-224-8207</voiceNum>
<faxNum>850-681-9364</faxNum>
</cntPhone>
<cntHours>8:00 a.m. - 5:00 p.m.</cntHours>
</rpCntInfo>
<role>
<RoleCd value="007">
</RoleCd>
</role>
</idPoC>
<resMaint>
<maintFreq>
<MaintFreqCd value="009">
</MaintFreqCd>
</maintFreq>
</resMaint>
<themeKeys>
<keyword>conservation</keyword>
<keyword>FNAI</keyword>
<keyword>water</keyword>
<keyword>springs</keyword>
<keyword>recharge</keyword>
<keyword>ground water</keyword>
<keyword>natural</keyword>
</themeKeys>
<searchKeys>
<keyword>groundwater</keyword>
<keyword>recharge</keyword>
<keyword>aquifer</keyword>
<keyword>FFCNA</keyword>
</searchKeys>
<resConst>
<Consts>
<useLimit/>
</Consts>
</resConst>
<resConst>
<LegConsts>
<accessConsts>
<RestrictCd value="008">
</RestrictCd>
</accessConsts>
<othConsts>The Florida Forever Conservation Needs Assessment data are available online, subject to a data use agreement.</othConsts>
</LegConsts>
</resConst>
<spatRpType>
<SpatRepTypCd value="002">
</SpatRepTypCd>
</spatRpType>
<dataLang>
<languageCode value="eng">
</languageCode>
<countryCode Sync="TRUE" value="USA">
</countryCode>
</dataLang>
<envirDesc>ESRI ArcCatalog 9.3.1.3000</envirDesc>
<dataExt>
<geoEle>
<GeoBndBox>
<exTypeCode>true</exTypeCode>
<westBL>-87.709015</westBL>
<eastBL>-79.791253</eastBL>
<northBL>31.227261</northBL>
<southBL>24.355832</southBL>
</GeoBndBox>
</geoEle>
</dataExt>
<dataExt>
<exDesc>publication date</exDesc>
</dataExt>
<dataExt>
<geoEle>
<GeoBndBox esriExtentType="search">
<exTypeCode Sync="TRUE">1</exTypeCode>
<westBL Sync="TRUE">-87.813287</westBL>
<eastBL Sync="TRUE">-79.637765</eastBL>
<northBL Sync="TRUE">31.187800</northBL>
<southBL Sync="TRUE">24.204709</southBL>
</GeoBndBox>
</geoEle>
</dataExt>
</dataIdInfo>
<dqInfo>
<dqScope>
<scpLvl>
<ScopeCd value="005">
</ScopeCd>
</scpLvl>
</dqScope>
<report type="DQConcConsis">
<measDesc>Data have been checked for consistency</measDesc>
</report>
<report type="DQCompOm">
<measDesc>For a complete description please refer to: Florida Forever Conservation Needs Assessment Technical Report. Florida Natural Areas Inventory. Tallahassee, Florida (available online at www.fnai.org).</measDesc>
</report>
<dataLineage>
<statement>For process details see the Conservation Needs Assessment Technical Report: https://www.fnai.org/conslands/florida-forever</statement>
</dataLineage>
</dqInfo>
<spatRepInfo>
<Georect>
<numDims>3</numDims>
<axisDimension type="001">
<dimSize>25207</dimSize>
<dimResol>
<value Sync="TRUE" uom="m">15.000000</value>
</dimResol>
</axisDimension>
<axisDimension type="002">
<dimSize>25147</dimSize>
<dimResol>
<value Sync="TRUE" uom="m">15.000000</value>
</dimResol>
</axisDimension>
<axisDimension type="003">
<dimSize>1</dimSize>
</axisDimension>
<cellGeo>
<CellGeoCd Sync="TRUE" value="002">
</CellGeoCd>
</cellGeo>
<tranParaAv Sync="TRUE">1</tranParaAv>
<chkPtAv Sync="TRUE">0</chkPtAv>
<cornerPts>
<pos Sync="TRUE">-9775330.394555 2778372.657239</pos>
</cornerPts>
<cornerPts>
<pos Sync="TRUE">-9775330.394555 3657162.657239</pos>
</cornerPts>
<cornerPts>
<pos Sync="TRUE">-8865235.394555 3657162.657239</pos>
</cornerPts>
<cornerPts>
<pos Sync="TRUE">-8865235.394555 2778372.657239</pos>
</cornerPts>
<centerPt>
<pos Sync="TRUE">-9320282.894555 3217767.657239</pos>
</centerPt>
<ptInPixel>
<PixOrientCd Sync="TRUE" value="001">
</PixOrientCd>
</ptInPixel>
</Georect>
</spatRepInfo>
<refSysInfo>
<RefSystem>
<refSysID>
<identCode Sync="TRUE" code="3857">
</identCode>
<idCodeSpace Sync="TRUE">EPSG</idCodeSpace>
<idVersion Sync="TRUE">6.18.3(9.3.1.2)</idVersion>
</refSysID>
</RefSystem>
</refSysInfo>
<contInfo>
<ImgDesc>
<contentTyp>
<ContentTypCd Sync="TRUE" value="001">
</ContentTypCd>
</contentTyp>
<covDim>
<Band>
<dimDescrp Sync="TRUE">recharge_v41R</dimDescrp>
<maxVal Sync="TRUE">6.000000</maxVal>
<minVal Sync="TRUE">1.000000</minVal>
<bitsPerVal Sync="TRUE">8</bitsPerVal>
<valUnit>
<UOM type="length">
</UOM>
</valUnit>
</Band>
</covDim>
</ImgDesc>
</contInfo>
<eainfo>
<detailed Name="Aquifer_Recharge.tif.vat">
<enttyp>
<enttypl Sync="FALSE">Aquifer Recharge</enttypl>
<enttypt Sync="TRUE">Table</enttypt>
<enttypc Sync="TRUE">6</enttypc>
</enttyp>
<attr>
<attrlabl Sync="TRUE">OID</attrlabl>
<attalias Sync="TRUE">OID</attalias>
<attrtype Sync="TRUE">OID</attrtype>
<attwidth Sync="TRUE">4</attwidth>
<atprecis Sync="TRUE">0</atprecis>
<attscale Sync="TRUE">0</attscale>
<attrdef Sync="TRUE">Internal feature number.</attrdef>
<attrdefs Sync="TRUE">Esri</attrdefs>
<attrdomv>
<udom Sync="TRUE">Sequential unique whole numbers that are automatically generated.</udom>
</attrdomv>
</attr>
<attr>
<attrlabl Sync="TRUE">COUNT</attrlabl>
<attalias Sync="TRUE">Count</attalias>
<attrtype Sync="TRUE">Double</attrtype>
<attwidth Sync="TRUE">19</attwidth>
<atprecis Sync="TRUE">0</atprecis>
<attscale Sync="TRUE">0</attscale>
<attrdef>Number of grid cells with the same value</attrdef>
</attr>
<attr>
<attrlabl Sync="TRUE">VALUE</attrlabl>
<attalias Sync="TRUE">Value</attalias>
<attrtype Sync="TRUE">Integer</attrtype>
<attwidth Sync="TRUE">10</attwidth>
<atprecis Sync="TRUE">10</atprecis>
<attscale Sync="TRUE">0</attscale>
<attrdef>Value assigned to grid cell. See Overview Description</attrdef>
<attrdefs>Florida Natural Areas Inventory</attrdefs>
</attr>
<attr>
<attrlabl Sync="TRUE">Red</attrlabl>
<attalias Sync="TRUE">Red</attalias>
<attrtype Sync="TRUE">Integer</attrtype>
<attwidth Sync="TRUE">5</attwidth>
<atprecis Sync="TRUE">5</atprecis>
<attscale Sync="TRUE">0</attscale>
</attr>
<attr>
<attrlabl Sync="TRUE">Green</attrlabl>
<attalias Sync="TRUE">Green</attalias>
<attrtype Sync="TRUE">Integer</attrtype>
<attwidth Sync="TRUE">5</attwidth>
<atprecis Sync="TRUE">5</atprecis>
<attscale Sync="TRUE">0</attscale>
</attr>
<attr>
<attrlabl Sync="TRUE">Blue</attrlabl>
<attalias Sync="TRUE">Blue</attalias>
<attrtype Sync="TRUE">Integer</attrtype>
<attwidth Sync="TRUE">5</attwidth>
<atprecis Sync="TRUE">5</atprecis>
<attscale Sync="TRUE">0</attscale>
</attr>
<attr>
<attrlabl Sync="TRUE">Descrip</attrlabl>
<attalias Sync="TRUE">Descrip</attalias>
<attrtype Sync="TRUE">String</attrtype>
<attwidth Sync="TRUE">60</attwidth>
<atprecis Sync="TRUE">0</atprecis>
<attscale Sync="TRUE">0</attscale>
<attrdef>Description of value</attrdef>
<attrdefs>FNAI</attrdefs>
</attr>
<attr>
<attrlabl Sync="TRUE">Resource</attrlabl>
<attalias Sync="TRUE">Resource</attalias>
<attrtype Sync="TRUE">String</attrtype>
<attwidth Sync="TRUE">60</attwidth>
<atprecis Sync="TRUE">0</atprecis>
<attscale Sync="TRUE">0</attscale>
</attr>
</detailed>
<overview>
<dsoverv>Florida Forever Conservation Needs Assessment Technical Report. Florida Natural Areas Inventory. Tallahassee, Florida (available online at www.fnai.org).</dsoverv>
<eaover>The final Prioritized Recharge dataset is a 15m grid with 6 priority classes.
Value 1 = Priority 1 (Highest)
Value 2 = Priority 2
Value 3 = Priority 3
Value 4 = Priority 4
Value 5 = Priority 5
Value 6 = Priority 6</eaover>
</overview>
</eainfo>
</metadata>
