{
 "currentVersion": 11.3,
 "serviceDescription": "This dataset was developed to provide scientific decision support and measure progress for preservation of resources associated with Florida Forever Measure D3: The number of acres acquired of groundwater recharge areas critical to springs, sinks, aquifers, other natural systems, or water supply. \n\nThe data are prioritized based on features that contribute to aquifer vulnerability such as swallets, thickness of the intermediate aquifer confining unit and closed topographical depressions, as well as areas within springshed protection zones and in proximity to public water supply wells. For more information see the Conservation Needs Assessment Technical Report: https://www.fnai.org/conslands/florida-forever.\n\nValue 1 = Priority 1 (Highest); Value 2 = Priority 2; Value 3 = Priority 3; Value 4 = Priority 4; Value 5 = Priority 5; Value 6 = Priority 6",
 "name": "FFCNA/Aquifer_Recharge_FFCNA",
 "description": "This dataset was developed to provide scientific decision support and measure progress for preservation of resources associated with Florida Forever Measure D3: The number of acres acquired of groundwater recharge areas critical to springs, sinks, aquifers, other natural systems, or water supply. \n\nThe data are prioritized based on features that contribute to aquifer vulnerability such as swallets, thickness of the intermediate aquifer confining unit and closed topographical depressions, as well as areas within springshed protection zones and in proximity to public water supply wells. For more information see the Conservation Needs Assessment Technical Report: https://www.fnai.org/conslands/florida-forever.\n\nValue 1 = Priority 1 (Highest); Value 2 = Priority 2; Value 3 = Priority 3; Value 4 = Priority 4; Value 5 = Priority 5; Value 6 = Priority 6",
 "extent": {
  "xmin": -9775330.394554673,
  "ymin": 2778372.6572389035,
  "xmax": -8865235.394554673,
  "ymax": 3657162.6572389035,
  "spatialReference": {
   "wkid": 102100,
   "latestWkid": 3857
  }
 },
 "initialExtent": {
  "xmin": -9775330.394554673,
  "ymin": 2778372.6572389035,
  "xmax": -8865235.394554673,
  "ymax": 3657162.6572389035,
  "spatialReference": {
   "wkid": 102100,
   "latestWkid": 3857
  }
 },
 "fullExtent": {
  "xmin": -9775330.394554673,
  "ymin": 2778372.6572389035,
  "xmax": -8865235.394554673,
  "ymax": 3657162.6572389035,
  "spatialReference": {
   "wkid": 102100,
   "latestWkid": 3857
  }
 },
 "sortableFields": "",
 "bandCount": 1,
 "pixelType": "U8",
 "minValues": [
  1
 ],
 "maxValues": [
  6
 ],
 "meanValues": [
  4.2256661805382
 ],
 "stdvValues": [
  1.4349857731652
 ],
 "hasMultidimensions": false,
 "pixelSizeX": 15,
 "pixelSizeY": 15,
 "meanPixelSize": 15,
 "datasetFormat": "TIFF",
 "uncompressedSize": 3554588378,
 "blockWidth": 128,
 "blockHeight": 128,
 "compressionType": "LZW",
 "bandNames": [
  "recharge_v41R"
 ],
 "allowCopy": true,
 "allowAnalysis": true,
 "itemAccess": false,
 "inspectionCapabilities": "",
 "noDataValue": 15,
 "noDataValues": [
  15
 ],
 "minPixelSize": 0,
 "maxPixelSize": 0,
 "copyrightText": "FGS; FNAI",
 "serviceDataType": "esriImageServiceDataTypeThematic",
 "serviceSourceType": "esriImageServiceSourceTypeDataset",
 "objectIdField": "",
 "fields": [],
 "capabilities": "Mensuration,Image,Metadata",
 "defaultMosaicMethod": "Center",
 "allowedMosaicMethods": "",
 "sortField": "",
 "sortValue": null,
 "sortAscending": true,
 "mosaicOperator": "First",
 "defaultCompressionQuality": 75,
 "defaultResamplingMethod": "Nearest",
 "maxImageHeight": 4100,
 "maxImageWidth": 15000,
 "allowRasterFunction": true,
 "rasterFunctionInfos": [
  {
   "name": "None",
   "description": "",
   "help": ""
  }
 ],
 "rasterTypeInfos": [
  {
   "name": "Raster Dataset",
   "description": "Supports all ArcGIS Raster Datasets",
   "help": ""
  }
 ],
 "mensurationCapabilities": "Basic",
 "hasHistograms": true,
 "hasColormap": false,
 "hasRasterAttributeTable": true,
 "minScale": 0,
 "maxScale": 0,
 "exportTilesAllowed": false,
 "supportsStatistics": false,
 "supportsAdvancedQueries": false,
 "editFieldsInfo": null,
 "ownershipBasedAccessControlForRasters": null,
 "allowComputeTiePoints": false,
 "useStandardizedQueries": true,
 "advancedQueryCapabilities": {
  "useStandardizedQueries": true,
  "supportsStatistics": false,
  "supportsOrderBy": false,
  "supportsDistinct": false,
  "supportsPagination": false
 },
 "spatialReference": {
  "wkid": 102100,
  "latestWkid": 3857
 },
 "resampling": false
}
