{
 "currentVersion": 11.3,
 "serviceDescription": "The Rare Species Habitat Conservation Priorities data layer includes occurrence-based habitat for 634 species with a high conservation need including plants, invertebrates, and vertebrates. Individual species maps are weighted according to conservation need and overlaid to reflect values for both rarity and richness. The final layer prioritizes places on the landscape that would protect both the greatest number of rare species and those species with the greatest conservation need. For more information see the Conservation Needs Assessment Technical Report: https://www.fnai.org/conslands/florida-forever. \n\nValue 1 = Priority 1 (Highest) Value 2 = Priority 2 Value 3 = Priority 3 Value 4 = Priority 4 Value 5 = Priority 5 Value 6 = Priority 6",
 "name": "FFCNA/FNAI_Hab_Cons_Priorities_FFCNA",
 "description": "The Rare Species Habitat Conservation Priorities data layer includes occurrence-based habitat for 634 species with a high conservation need including plants, invertebrates, and vertebrates. Individual species maps are weighted according to conservation need and overlaid to reflect values for both rarity and richness. The final layer prioritizes places on the landscape that would protect both the greatest number of rare species and those species with the greatest conservation need. For more information see the Conservation Needs Assessment Technical Report: https://www.fnai.org/conslands/florida-forever. \n\nValue 1 = Priority 1 (Highest) Value 2 = Priority 2 Value 3 = Priority 3 Value 4 = Priority 4 Value 5 = Priority 5 Value 6 = Priority 6",
 "extent": {
  "xmin": -9775330.391914615,
  "ymin": 2778372.6630642083,
  "xmax": -8865235.391914615,
  "ymax": 3657162.6630642083,
  "spatialReference": {
   "wkid": 102100,
   "latestWkid": 3857
  }
 },
 "initialExtent": {
  "xmin": -9775330.391914615,
  "ymin": 2778372.6630642083,
  "xmax": -8865235.391914615,
  "ymax": 3657162.6630642083,
  "spatialReference": {
   "wkid": 102100,
   "latestWkid": 3857
  }
 },
 "fullExtent": {
  "xmin": -9775330.391914615,
  "ymin": 2778372.6630642083,
  "xmax": -8865235.391914615,
  "ymax": 3657162.6630642083,
  "spatialReference": {
   "wkid": 102100,
   "latestWkid": 3857
  }
 },
 "sortableFields": "",
 "bandCount": 1,
 "pixelType": "U8",
 "minValues": [
  1
 ],
 "maxValues": [
  6
 ],
 "meanValues": [
  4.4406616362118
 ],
 "stdvValues": [
  1.5381857188456
 ],
 "hasMultidimensions": false,
 "pixelSizeX": 15,
 "pixelSizeY": 15,
 "meanPixelSize": 15,
 "datasetFormat": "TIFF",
 "uncompressedSize": 3554588378,
 "blockWidth": 128,
 "blockHeight": 128,
 "compressionType": "LZW",
 "bandNames": [
  "Band_1"
 ],
 "allowCopy": true,
 "allowAnalysis": true,
 "itemAccess": false,
 "inspectionCapabilities": "",
 "noDataValue": 15,
 "noDataValues": [
  15
 ],
 "minPixelSize": 0,
 "maxPixelSize": 0,
 "copyrightText": "Florida Natural Areas Inventory",
 "serviceDataType": "esriImageServiceDataTypeThematic",
 "serviceSourceType": "esriImageServiceSourceTypeDataset",
 "objectIdField": "",
 "fields": [],
 "capabilities": "Mensuration,Image,Metadata",
 "defaultMosaicMethod": "Center",
 "allowedMosaicMethods": "",
 "sortField": "",
 "sortValue": null,
 "sortAscending": true,
 "mosaicOperator": "First",
 "defaultCompressionQuality": 75,
 "defaultResamplingMethod": "Nearest",
 "maxImageHeight": 4100,
 "maxImageWidth": 15000,
 "allowRasterFunction": true,
 "rasterFunctionInfos": [
  {
   "name": "None",
   "description": "",
   "help": ""
  }
 ],
 "rasterTypeInfos": [
  {
   "name": "Raster Dataset",
   "description": "Supports all ArcGIS Raster Datasets",
   "help": ""
  }
 ],
 "mensurationCapabilities": "Basic",
 "hasHistograms": true,
 "hasColormap": false,
 "hasRasterAttributeTable": true,
 "minScale": 0,
 "maxScale": 0,
 "exportTilesAllowed": false,
 "supportsStatistics": false,
 "supportsAdvancedQueries": false,
 "editFieldsInfo": null,
 "ownershipBasedAccessControlForRasters": null,
 "allowComputeTiePoints": false,
 "useStandardizedQueries": true,
 "advancedQueryCapabilities": {
  "useStandardizedQueries": true,
  "supportsStatistics": false,
  "supportsOrderBy": false,
  "supportsDistinct": false,
  "supportsPagination": false
 },
 "spatialReference": {
  "wkid": 102100,
  "latestWkid": 3857
 },
 "resampling": false
}
