<?xml version="1.0" encoding="UTF-8" standalone="no"?>
<metadata xml:lang="en">
<Esri>
<CreaDate>20251117</CreaDate>
<CreaTime>16095900</CreaTime>
<ArcGISFormat>1.0</ArcGISFormat>
<SyncOnce>FALSE</SyncOnce>
<DataProperties>
<itemProps>
<imsContentType Sync="TRUE">002</imsContentType>
<itemName Sync="TRUE">Forestland_for_Recharge_2025.tif</itemName>
<nativeExtBox>
<westBL Sync="TRUE">-9775329.833043</westBL>
<eastBL Sync="TRUE">-8865234.833043</eastBL>
<southBL Sync="TRUE">2778372.133788</southBL>
<northBL Sync="TRUE">3657162.133788</northBL>
<exTypeCode Sync="TRUE">1</exTypeCode>
</nativeExtBox>
</itemProps>
<coordRef>
<type Sync="TRUE">Projected</type>
<geogcsn Sync="TRUE">GCS_WGS_1984</geogcsn>
<csUnits Sync="TRUE">Linear Unit: Meter (1.000000)</csUnits>
<projcsn Sync="TRUE">WGS_1984_Web_Mercator_Auxiliary_Sphere</projcsn>
<peXml Sync="TRUE">&lt;ProjectedCoordinateSystem xsi:type='typens:ProjectedCoordinateSystem' xmlns:xsi='http://www.w3.org/2001/XMLSchema-instance' xmlns:xs='http://www.w3.org/2001/XMLSchema' xmlns:typens='http://www.esri.com/schemas/ArcGIS/3.6.0'&gt;&lt;WKT&gt;PROJCS[&amp;quot;WGS_1984_Web_Mercator_Auxiliary_Sphere&amp;quot;,GEOGCS[&amp;quot;GCS_WGS_1984&amp;quot;,DATUM[&amp;quot;D_WGS_1984&amp;quot;,SPHEROID[&amp;quot;WGS_1984&amp;quot;,6378137.0,298.257223563]],PRIMEM[&amp;quot;Greenwich&amp;quot;,0.0],UNIT[&amp;quot;Degree&amp;quot;,0.0174532925199433]],PROJECTION[&amp;quot;Mercator_Auxiliary_Sphere&amp;quot;],PARAMETER[&amp;quot;False_Easting&amp;quot;,0.0],PARAMETER[&amp;quot;False_Northing&amp;quot;,0.0],PARAMETER[&amp;quot;Central_Meridian&amp;quot;,0.0],PARAMETER[&amp;quot;Standard_Parallel_1&amp;quot;,0.0],PARAMETER[&amp;quot;Auxiliary_Sphere_Type&amp;quot;,0.0],UNIT[&amp;quot;Meter&amp;quot;,1.0],AUTHORITY[&amp;quot;EPSG&amp;quot;,3857]]&lt;/WKT&gt;&lt;XOrigin&gt;-20037700&lt;/XOrigin&gt;&lt;YOrigin&gt;-30241100&lt;/YOrigin&gt;&lt;XYScale&gt;148923141.92838538&lt;/XYScale&gt;&lt;ZOrigin&gt;-100000&lt;/ZOrigin&gt;&lt;ZScale&gt;10000&lt;/ZScale&gt;&lt;MOrigin&gt;-100000&lt;/MOrigin&gt;&lt;MScale&gt;10000&lt;/MScale&gt;&lt;XYTolerance&gt;0.001&lt;/XYTolerance&gt;&lt;ZTolerance&gt;0.001&lt;/ZTolerance&gt;&lt;MTolerance&gt;0.001&lt;/MTolerance&gt;&lt;HighPrecision&gt;true&lt;/HighPrecision&gt;&lt;WKID&gt;102100&lt;/WKID&gt;&lt;LatestWKID&gt;3857&lt;/LatestWKID&gt;&lt;/ProjectedCoordinateSystem&gt;</peXml>
</coordRef>
<RasterProperties>
<General>
<PixelDepth Sync="TRUE">8</PixelDepth>
<HasColormap Sync="TRUE">FALSE</HasColormap>
<CompressionType Sync="TRUE">LZW</CompressionType>
<NumBands Sync="TRUE">1</NumBands>
<Format Sync="TRUE">TIFF</Format>
<HasPyramids Sync="TRUE">FALSE</HasPyramids>
<SourceType Sync="TRUE">continuous</SourceType>
<PixelType Sync="TRUE">unsigned integer</PixelType>
<NoDataValue Sync="TRUE">0</NoDataValue>
</General>
</RasterProperties>
</DataProperties>
<scaleRange>
<minScale>150000000</minScale>
<maxScale>5000</maxScale>
</scaleRange>
<SyncDate>20251118</SyncDate>
<SyncTime>12130200</SyncTime>
<ModDate>20251118</ModDate>
<ModTime>12181700</ModTime>
<ArcGISProfile>ISO19139</ArcGISProfile>
</Esri>
<mdLang>
<languageCode value="eng">
</languageCode>
<countryCode value="USA">
</countryCode>
</mdLang>
<mdChar>
<CharSetCd value="004">
</CharSetCd>
</mdChar>
<mdHrLv>
<ScopeCd value="005">
</ScopeCd>
</mdHrLv>
<mdHrLvName>dataset</mdHrLvName>
<mdContact>
<rpIndName>Amy Knight</rpIndName>
<rpOrgName>Florida Natural Areas Inventory</rpOrgName>
<rpPosName>GIS Program Specialist</rpPosName>
<rpCntInfo>
<cntPhone>
<voiceNum tddtty="">850-224-8207x214</voiceNum>
</cntPhone>
<cntAddress addressType="both">
<delPoint>1018 Thomasville Rd., Suite 200C</delPoint>
<city>Tallahassee</city>
<adminArea>Florida</adminArea>
<postCode>32303</postCode>
<eMailAdd>aknight@fnai.org</eMailAdd>
</cntAddress>
</rpCntInfo>
<role>
<RoleCd value="006">
</RoleCd>
</role>
<displayName>Amy Knight</displayName>
<displayName>Amy Knight</displayName>
</mdContact>
<mdDateSt Sync="TRUE">20251118</mdDateSt>
<distInfo>
<distFormat>
<formatName>Raster Dataset</formatName>
<formatVer>ArcGIS 10.1</formatVer>
</distFormat>
</distInfo>
<dataIdInfo>
<envirDesc>Esri ArcGIS 10.2.0.3348</envirDesc>
<dataLang>
<languageCode value="eng">
</languageCode>
<countryCode value="USA">
</countryCode>
</dataLang>
<idCitation>
<resTitle>Forestland_for_Recharge_FFCNA</resTitle>
<presForm>
<PresFormCd value="005">
</PresFormCd>
</presForm>
<resAltTitle>Forest Lands to Maintain Recharge Function</resAltTitle>
<date>
<pubDate>2015-12-01T00:00:00</pubDate>
<reviseDate>2025-10-15T00:00:00</reviseDate>
</date>
<resEd>2025</resEd>
<citRespParty>
<rpIndName>Jon Oetting</rpIndName>
<rpOrgName>Florida Natural Areas Inventory</rpOrgName>
<rpPosName>Chief of Conservation Planning Services</rpPosName>
<displayName>Jon Oetting</displayName>
<role>
<RoleCd value="007">
</RoleCd>
</role>
</citRespParty>
<citRespParty>
<rpIndName>Florida Natural Areas Inventory</rpIndName>
<rpOrgName>www.fnai.org</rpOrgName>
<role>
<RoleCd value="006">
</RoleCd>
</role>
<rpCntInfo>
<cntPhone>
<voiceNum tddtty="">850-224-8207</voiceNum>
</cntPhone>
<cntHours>8:00 - 5:00</cntHours>
</rpCntInfo>
</citRespParty>
</idCitation>
<spatRpType>
<SpatRepTypCd value="002">
</SpatRepTypCd>
</spatRpType>
<geoBox esriExtentType="decdegrees">
<westBL>-87.709015</westBL>
<eastBL>-79.791253</eastBL>
<northBL>31.227261</northBL>
<southBL>24.355832</southBL>
<exTypeCode>1</exTypeCode>
</geoBox>
<idPurp>This layer identifies pinelands that overlap high priority areas for aquifer recharge.</idPurp>
<idAbs>This layer identifies pinelands that overlap high priority areas for aquifer recharge. For more information see the Conservation Needs Assessment Technical Report: https://www.fnai.org/conslands/florida-forever
This layer is part of the Florida Forever Conservation Needs Assessment, an analysis of the geographic distribution of certain natural resources and resource-based land uses that have been identified in the Florida Forever Act (F.S. 259.105) as needing increased conservation attention. Data for the Needs Assessment are maintained and updated by Florida Natural Areas Inventory under contract to the Florida Department of Environmental Protection and in collaboration with many partners. The data represent a statewide view of resource distributions and are intended to inform state conservation priorities and measure progress of the Florida Forever program in protecting these resources.</idAbs>
<idCredit>Florida Natural Areas Inventory</idCredit>
<searchKeys>
<keyword>Florida</keyword>
<keyword>forestry</keyword>
<keyword>recharge</keyword>
<keyword>conservation</keyword>
</searchKeys>
<resConst>
<Consts>
<useLimit/>
</Consts>
</resConst>
<dataChar>
<CharSetCd value="004">
</CharSetCd>
</dataChar>
<idStatus>
<ProgCd value="001">
</ProgCd>
</idStatus>
<resMaint>
<maintFreq>
<MaintFreqCd value="009">
</MaintFreqCd>
</maintFreq>
</resMaint>
<dataExt>
<geoEle>
<GeoBndBox esriExtentType="search">
<exTypeCode Sync="TRUE">1</exTypeCode>
<westBL Sync="TRUE">-87.813282</westBL>
<eastBL Sync="TRUE">-79.637759</eastBL>
<northBL Sync="TRUE">31.187796</northBL>
<southBL Sync="TRUE">24.204704</southBL>
</GeoBndBox>
</geoEle>
</dataExt>
</dataIdInfo>
<mdMaint>
<maintFreq>
<MaintFreqCd value="009">
</MaintFreqCd>
</maintFreq>
</mdMaint>
<spatRepInfo>
<Georect>
<cellGeo>
<CellGeoCd Sync="TRUE" value="002">
</CellGeoCd>
</cellGeo>
<numDims Sync="TRUE">2</numDims>
<tranParaAv Sync="TRUE">1</tranParaAv>
<chkPtAv Sync="TRUE">0</chkPtAv>
<cornerPts>
<pos Sync="TRUE">-9775329.833043 2778372.133788</pos>
</cornerPts>
<cornerPts>
<pos Sync="TRUE">-9775329.833043 3657162.133788</pos>
</cornerPts>
<cornerPts>
<pos Sync="TRUE">-8865234.833043 3657162.133788</pos>
</cornerPts>
<cornerPts>
<pos Sync="TRUE">-8865234.833043 2778372.133788</pos>
</cornerPts>
<centerPt>
<pos Sync="TRUE">-9320282.333043 3217767.133788</pos>
</centerPt>
<axisDimension type="002">
<dimSize Sync="TRUE">60673</dimSize>
<dimResol>
<value Sync="TRUE" uom="m">15.000000</value>
</dimResol>
</axisDimension>
<axisDimension type="001">
<dimSize Sync="TRUE">58586</dimSize>
<dimResol>
<value Sync="TRUE" uom="m">15.000000</value>
</dimResol>
</axisDimension>
<ptInPixel>
<PixOrientCd Sync="TRUE" value="001">
</PixOrientCd>
</ptInPixel>
</Georect>
</spatRepInfo>
<refSysInfo>
<RefSystem>
<refSysID>
<identCode code="0">NAD_1983_HARN_Albers</identCode>
<idCodeSpace Sync="TRUE">EPSG</idCodeSpace>
<idVersion Sync="TRUE">6.18.3(9.3.1.2)</idVersion>
</refSysID>
</RefSystem>
</refSysInfo>
<contInfo>
<ImgDesc>
<contentTyp>
<ContentTypCd Sync="TRUE" value="001">
</ContentTypCd>
</contentTyp>
<covDim>
<Band>
<dimDescrp>Band_1</dimDescrp>
<maxVal>1.000000</maxVal>
<minVal>0.000000</minVal>
<bitsPerVal>8</bitsPerVal>
<valUnit>
<UOM type="length">
</UOM>
</valUnit>
</Band>
</covDim>
</ImgDesc>
</contInfo>
<eainfo>
<detailed Name="Forestland_for_Recharge_2025.tif.vat">
<attr>
<attrlabl>VALUE</attrlabl>
<attalias Sync="TRUE">Value</attalias>
<attrtype Sync="TRUE">Integer</attrtype>
<attwidth Sync="TRUE">10</attwidth>
<atprecis Sync="TRUE">10</atprecis>
<attscale Sync="TRUE">0</attscale>
<attrdef>Arbitrary value assigned to grid cell.</attrdef>
<attrdefs>Florida Natural Areas Inventory</attrdefs>
</attr>
<attr>
<attrlabl Sync="TRUE">OID</attrlabl>
<attalias Sync="TRUE">OID</attalias>
<attrtype Sync="TRUE">OID</attrtype>
<attwidth Sync="TRUE">4</attwidth>
<atprecis Sync="TRUE">0</atprecis>
<attscale Sync="TRUE">0</attscale>
<attrdef Sync="TRUE">Internal feature number.</attrdef>
<attrdefs Sync="TRUE">Esri</attrdefs>
<attrdomv>
<udom Sync="TRUE">Sequential unique whole numbers that are automatically generated.</udom>
</attrdomv>
</attr>
<attr>
<attrlabl>COUNT</attrlabl>
<attrdef>Number of cells with the same value</attrdef>
<attrdefs>ESRI</attrdefs>
<attrdomv>
<edom>
<edomv>0</edomv>
<edomvd>Cell contains no value in the FNAI Habitat Conservation Priorities data set.</edomvd>
</edom>
<edom>
<edomv>1</edomv>
<edomvd>Highest Priority habitat.</edomvd>
</edom>
</attrdomv>
<attalias Sync="TRUE">Count</attalias>
<attrtype Sync="TRUE">Double</attrtype>
<attwidth Sync="TRUE">19</attwidth>
<atprecis Sync="TRUE">0</atprecis>
<attscale Sync="TRUE">0</attscale>
</attr>
<attr>
<attrlabl>RESOURCE</attrlabl>
<attalias Sync="TRUE">Resource</attalias>
<attrtype Sync="TRUE">String</attrtype>
<attwidth Sync="TRUE">60</attwidth>
<atprecis Sync="TRUE">0</atprecis>
<attscale Sync="TRUE">0</attscale>
<attrdef>Name of Florida Forever resource</attrdef>
<attrdefs>Florida Natural Areas Inventory</attrdefs>
</attr>
<attr>
<attrlabl Sync="TRUE">Red</attrlabl>
<attalias Sync="TRUE">Red</attalias>
<attrtype Sync="TRUE">Integer</attrtype>
<attwidth Sync="TRUE">10</attwidth>
<atprecis Sync="TRUE">10</atprecis>
<attscale Sync="TRUE">0</attscale>
</attr>
<attr>
<attrlabl Sync="TRUE">Green</attrlabl>
<attalias Sync="TRUE">Green</attalias>
<attrtype Sync="TRUE">Integer</attrtype>
<attwidth Sync="TRUE">10</attwidth>
<atprecis Sync="TRUE">10</atprecis>
<attscale Sync="TRUE">0</attscale>
</attr>
<attr>
<attrlabl Sync="TRUE">Blue</attrlabl>
<attalias Sync="TRUE">Blue</attalias>
<attrtype Sync="TRUE">Integer</attrtype>
<attwidth Sync="TRUE">10</attwidth>
<atprecis Sync="TRUE">10</atprecis>
<attscale Sync="TRUE">0</attscale>
</attr>
<enttyp>
<enttypl>fr_rch23</enttypl>
<enttypt Sync="TRUE">Table</enttypt>
<enttypc Sync="TRUE">1</enttypc>
</enttyp>
<attr>
<attrlabl>DESCRIP</attrlabl>
<attrdef>Description of value</attrdef>
<attalias Sync="TRUE">Descrip</attalias>
<attrtype Sync="TRUE">String</attrtype>
<attwidth Sync="TRUE">60</attwidth>
<atprecis Sync="TRUE">0</atprecis>
<attscale Sync="TRUE">0</attscale>
<attrdefs>Florida Natural Areas Inventory</attrdefs>
</attr>
</detailed>
<overview>
<eaover>Label field describes grid value</eaover>
</overview>
</eainfo>
</metadata>
