{
 "currentVersion": 11.3,
 "serviceDescription": "This layer identifies pinelands that overlap high priority areas for aquifer recharge. For more information see the Conservation Needs Assessment Technical Report: https://www.fnai.org/conslands/florida-forever\n\nThis layer is part of the Florida Forever Conservation Needs Assessment, an analysis of the geographic distribution of certain natural resources and resource-based land uses that have been identified in the Florida Forever Act (F.S. 259.105) as needing increased conservation attention. Data for the Needs Assessment are maintained and updated by Florida Natural Areas Inventory under contract to the Florida Department of Environmental Protection and in collaboration with many partners. The data represent a statewide view of resource distributions and are intended to inform state conservation priorities and measure progress of the Florida Forever program in protecting these resources.",
 "name": "FFCNA/Forestland_for_Recharge_FFCNA",
 "description": "This layer identifies pinelands that overlap high priority areas for aquifer recharge. For more information see the Conservation Needs Assessment Technical Report: https://www.fnai.org/conslands/florida-forever\n\nThis layer is part of the Florida Forever Conservation Needs Assessment, an analysis of the geographic distribution of certain natural resources and resource-based land uses that have been identified in the Florida Forever Act (F.S. 259.105) as needing increased conservation attention. Data for the Needs Assessment are maintained and updated by Florida Natural Areas Inventory under contract to the Florida Department of Environmental Protection and in collaboration with many partners. The data represent a statewide view of resource distributions and are intended to inform state conservation priorities and measure progress of the Florida Forever program in protecting these resources.",
 "extent": {
  "xmin": -9775329.833042514,
  "ymin": 2778372.1337882797,
  "xmax": -8865234.833042514,
  "ymax": 3657162.1337882797,
  "spatialReference": {
   "wkid": 102100,
   "latestWkid": 3857
  }
 },
 "initialExtent": {
  "xmin": -9775329.833042514,
  "ymin": 2778372.1337882797,
  "xmax": -8865234.833042514,
  "ymax": 3657162.1337882797,
  "spatialReference": {
   "wkid": 102100,
   "latestWkid": 3857
  }
 },
 "fullExtent": {
  "xmin": -9775329.833042514,
  "ymin": 2778372.1337882797,
  "xmax": -8865234.833042514,
  "ymax": 3657162.1337882797,
  "spatialReference": {
   "wkid": 102100,
   "latestWkid": 3857
  }
 },
 "sortableFields": "",
 "bandCount": 1,
 "pixelType": "U8",
 "minValues": [
  1
 ],
 "maxValues": [
  1
 ],
 "meanValues": [
  1
 ],
 "stdvValues": [
  0
 ],
 "hasMultidimensions": false,
 "pixelSizeX": 15,
 "pixelSizeY": 15,
 "meanPixelSize": 15,
 "datasetFormat": "TIFF",
 "uncompressedSize": 3554588378,
 "blockWidth": 128,
 "blockHeight": 128,
 "compressionType": "LZW",
 "bandNames": [
  "Band_1"
 ],
 "allowCopy": true,
 "allowAnalysis": true,
 "itemAccess": false,
 "inspectionCapabilities": "",
 "noDataValue": 0,
 "noDataValues": [
  0
 ],
 "minPixelSize": 0,
 "maxPixelSize": 0,
 "copyrightText": "Florida Natural Areas Inventory",
 "serviceDataType": "esriImageServiceDataTypeGeneric",
 "serviceSourceType": "esriImageServiceSourceTypeDataset",
 "objectIdField": "",
 "fields": [],
 "capabilities": "Mensuration,Image,Metadata",
 "defaultMosaicMethod": "Center",
 "allowedMosaicMethods": "",
 "sortField": "",
 "sortValue": null,
 "sortAscending": true,
 "mosaicOperator": "First",
 "defaultCompressionQuality": 75,
 "defaultResamplingMethod": "Nearest",
 "maxImageHeight": 4100,
 "maxImageWidth": 15000,
 "allowRasterFunction": true,
 "rasterFunctionInfos": [
  {
   "name": "None",
   "description": "",
   "help": ""
  }
 ],
 "rasterTypeInfos": [
  {
   "name": "Raster Dataset",
   "description": "Supports all ArcGIS Raster Datasets",
   "help": ""
  }
 ],
 "mensurationCapabilities": "Basic",
 "hasHistograms": true,
 "hasColormap": false,
 "hasRasterAttributeTable": true,
 "minScale": 0,
 "maxScale": 0,
 "exportTilesAllowed": false,
 "supportsStatistics": false,
 "supportsAdvancedQueries": false,
 "editFieldsInfo": null,
 "ownershipBasedAccessControlForRasters": null,
 "allowComputeTiePoints": false,
 "useStandardizedQueries": true,
 "advancedQueryCapabilities": {
  "useStandardizedQueries": true,
  "supportsStatistics": false,
  "supportsOrderBy": false,
  "supportsDistinct": false,
  "supportsPagination": false
 },
 "spatialReference": {
  "wkid": 102100,
  "latestWkid": 3857
 },
 "resampling": false
}
