{
 "currentVersion": 11.3,
 "serviceDescription": "The fragile coastal resources data layer identifies natural communities within one mile of the coast that are most vulnerable to disturbance or development including beach dune (G3), coastal scrub (G2), coastal grasslands (G3), coastal strand (G2), maritime hammock (G3), shell mound (G2), coastal dune lake (G2), coastal rockland lake (G2), mangrove wetlands (G5) and salt marsh (G5). For more information see the Conservation Needs Assessment Technical Report: https://www.fnai.org/conslands/florida-forever",
 "name": "FFCNA/Fragile_Coastal_Resources_FFCNA",
 "description": "The fragile coastal resources data layer identifies natural communities within one mile of the coast that are most vulnerable to disturbance or development including beach dune (G3), coastal scrub (G2), coastal grasslands (G3), coastal strand (G2), maritime hammock (G3), shell mound (G2), coastal dune lake (G2), coastal rockland lake (G2), mangrove wetlands (G5) and salt marsh (G5). For more information see the Conservation Needs Assessment Technical Report: https://www.fnai.org/conslands/florida-forever",
 "extent": {
  "xmin": -9775330.391914615,
  "ymin": 2778372.6630642083,
  "xmax": -8865235.391914615,
  "ymax": 3657162.6630642083,
  "spatialReference": {
   "wkid": 102100,
   "latestWkid": 3857
  }
 },
 "initialExtent": {
  "xmin": -9775330.391914615,
  "ymin": 2778372.6630642083,
  "xmax": -8865235.391914615,
  "ymax": 3657162.6630642083,
  "spatialReference": {
   "wkid": 102100,
   "latestWkid": 3857
  }
 },
 "fullExtent": {
  "xmin": -9775330.391914615,
  "ymin": 2778372.6630642083,
  "xmax": -8865235.391914615,
  "ymax": 3657162.6630642083,
  "spatialReference": {
   "wkid": 102100,
   "latestWkid": 3857
  }
 },
 "sortableFields": "",
 "bandCount": 1,
 "pixelType": "U8",
 "minValues": [
  1
 ],
 "maxValues": [
  3
 ],
 "meanValues": [
  2.8180895252648
 ],
 "stdvValues": [
  0.57380241932356
 ],
 "hasMultidimensions": false,
 "pixelSizeX": 15,
 "pixelSizeY": 15,
 "meanPixelSize": 15,
 "datasetFormat": "TIFF",
 "uncompressedSize": 3554588378,
 "blockWidth": 128,
 "blockHeight": 128,
 "compressionType": "LZW",
 "bandNames": [
  "Band_1"
 ],
 "allowCopy": true,
 "allowAnalysis": true,
 "itemAccess": false,
 "inspectionCapabilities": "",
 "noDataValue": 15,
 "noDataValues": [
  15
 ],
 "minPixelSize": 0,
 "maxPixelSize": 0,
 "copyrightText": "FNAI",
 "serviceDataType": "esriImageServiceDataTypeThematic",
 "serviceSourceType": "esriImageServiceSourceTypeDataset",
 "objectIdField": "",
 "fields": [],
 "capabilities": "Mensuration,Image,Metadata",
 "defaultMosaicMethod": "Center",
 "allowedMosaicMethods": "",
 "sortField": "",
 "sortValue": null,
 "sortAscending": true,
 "mosaicOperator": "First",
 "defaultCompressionQuality": 75,
 "defaultResamplingMethod": "Nearest",
 "maxImageHeight": 4100,
 "maxImageWidth": 15000,
 "allowRasterFunction": true,
 "rasterFunctionInfos": [
  {
   "name": "None",
   "description": "",
   "help": ""
  }
 ],
 "rasterTypeInfos": [
  {
   "name": "Raster Dataset",
   "description": "Supports all ArcGIS Raster Datasets",
   "help": ""
  }
 ],
 "mensurationCapabilities": "Basic",
 "hasHistograms": true,
 "hasColormap": false,
 "hasRasterAttributeTable": true,
 "minScale": 0,
 "maxScale": 0,
 "exportTilesAllowed": false,
 "supportsStatistics": false,
 "supportsAdvancedQueries": false,
 "editFieldsInfo": null,
 "ownershipBasedAccessControlForRasters": null,
 "allowComputeTiePoints": false,
 "useStandardizedQueries": true,
 "advancedQueryCapabilities": {
  "useStandardizedQueries": true,
  "supportsStatistics": false,
  "supportsOrderBy": false,
  "supportsDistinct": false,
  "supportsPagination": false
 },
 "spatialReference": {
  "wkid": 102100,
  "latestWkid": 3857
 },
 "resampling": false
}
