{
 "currentVersion": 11.3,
 "serviceDescription": "This data layer identifies natural features within the 100-year floodplain as determined by from three primary sources: 1) FEMA Digital Flood Insurance Rate Map database 2001-2017 (DFIRM) for 63 counties; 2) FEMA Digital Q3 Flood Data 1996 for 4 counties; and 3) a surrogate floodplain dataset based on overlap of wetlands and hydric soils for gaps in FEMA data. The data were prioritized based on the degree of \u201cnaturalness\u201d of the floodplain, which was estimated based on overlap with Land Use Intensity index and FNAI Potential Natural Areas. For more information see the Conservation Needs Assessment Technical Report: https://www.fnai.org/conslands/florida-forever.",
 "name": "FFCNA/Natural_Floodplain_FFCNA",
 "description": "This data layer identifies natural features within the 100-year floodplain as determined by from three primary sources: 1) FEMA Digital Flood Insurance Rate Map database 2001-2017 (DFIRM) for 63 counties; 2) FEMA Digital Q3 Flood Data 1996 for 4 counties; and 3) a surrogate floodplain dataset based on overlap of wetlands and hydric soils for gaps in FEMA data. The data were prioritized based on the degree of \u201cnaturalness\u201d of the floodplain, which was estimated based on overlap with Land Use Intensity index and FNAI Potential Natural Areas. For more information see the Conservation Needs Assessment Technical Report: https://www.fnai.org/conslands/florida-forever.",
 "extent": {
  "xmin": -9775330.391914615,
  "ymin": 2778372.6630642083,
  "xmax": -8865235.391914615,
  "ymax": 3657162.6630642083,
  "spatialReference": {
   "wkid": 102100,
   "latestWkid": 3857
  }
 },
 "initialExtent": {
  "xmin": -9775330.391914615,
  "ymin": 2778372.6630642083,
  "xmax": -8865235.391914615,
  "ymax": 3657162.6630642083,
  "spatialReference": {
   "wkid": 102100,
   "latestWkid": 3857
  }
 },
 "fullExtent": {
  "xmin": -9775330.391914615,
  "ymin": 2778372.6630642083,
  "xmax": -8865235.391914615,
  "ymax": 3657162.6630642083,
  "spatialReference": {
   "wkid": 102100,
   "latestWkid": 3857
  }
 },
 "sortableFields": "",
 "bandCount": 1,
 "pixelType": "U8",
 "minValues": [
  1
 ],
 "maxValues": [
  6
 ],
 "meanValues": [
  2.7865681568303
 ],
 "stdvValues": [
  1.6513720548099
 ],
 "hasMultidimensions": false,
 "pixelSizeX": 15,
 "pixelSizeY": 15,
 "meanPixelSize": 15,
 "datasetFormat": "TIFF",
 "uncompressedSize": 3554588378,
 "blockWidth": 128,
 "blockHeight": 128,
 "compressionType": "LZW",
 "bandNames": [
  "Band_1"
 ],
 "allowCopy": true,
 "allowAnalysis": true,
 "itemAccess": false,
 "inspectionCapabilities": "",
 "noDataValue": 15,
 "noDataValues": [
  15
 ],
 "minPixelSize": 0,
 "maxPixelSize": 0,
 "copyrightText": "FNAI",
 "serviceDataType": "esriImageServiceDataTypeThematic",
 "serviceSourceType": "esriImageServiceSourceTypeDataset",
 "objectIdField": "",
 "fields": [],
 "capabilities": "Mensuration,Image,Metadata",
 "defaultMosaicMethod": "Center",
 "allowedMosaicMethods": "",
 "sortField": "",
 "sortValue": null,
 "sortAscending": true,
 "mosaicOperator": "First",
 "defaultCompressionQuality": 75,
 "defaultResamplingMethod": "Nearest",
 "maxImageHeight": 4100,
 "maxImageWidth": 15000,
 "allowRasterFunction": true,
 "rasterFunctionInfos": [
  {
   "name": "None",
   "description": "",
   "help": ""
  }
 ],
 "rasterTypeInfos": [
  {
   "name": "Raster Dataset",
   "description": "Supports all ArcGIS Raster Datasets",
   "help": ""
  }
 ],
 "mensurationCapabilities": "Basic",
 "hasHistograms": true,
 "hasColormap": false,
 "hasRasterAttributeTable": true,
 "minScale": 0,
 "maxScale": 0,
 "exportTilesAllowed": false,
 "supportsStatistics": false,
 "supportsAdvancedQueries": false,
 "editFieldsInfo": null,
 "ownershipBasedAccessControlForRasters": null,
 "allowComputeTiePoints": false,
 "useStandardizedQueries": true,
 "advancedQueryCapabilities": {
  "useStandardizedQueries": true,
  "supportsStatistics": false,
  "supportsOrderBy": false,
  "supportsDistinct": false,
  "supportsPagination": false
 },
 "spatialReference": {
  "wkid": 102100,
  "latestWkid": 3857
 },
 "resampling": false
}
