{
 "currentVersion": 11.3,
 "serviceDescription": "The 2009 SHCAs, developed by Florida Fish and Wildlife Conservation Commission (FWC), identify areas of habitat on private lands that are essential to sustain a minimum viable population for focal species of terrestrial vertebrates that are not adequately protected on existing conservation lands. In 2020, FNAI worked with FWC to update the SHCAs based on more recent habitat models developed by FWC since 2009, including the addition of potential habitat within existing conservation lands for all 62 focal species. The 2020 SHCAs include habitat data for 62 terrestrial vertebrate species and are prioritized into five priority classes based on rarity (FNAI State and Global ranks). \n\nValue 1 = Priority 1 (Highest): State Rank 1 and Global Rank 1-3 \n\nValue 2 = Priority 2: State Rank 1 and Global Rank 4-5 or State Rank 2 and Global Rank 2-3 \n\nValue 3 = Priority 3: State Rank 2 and Global Rank 4-5 or State Rank 3 and Global Rank 3 \n\nValue 4 = Priority 4: State Rank 3 and Global Rank 4 \n\nValue 5 = Priority 5: State Rank 3 and Global Rank 5 or State Rank 4 and Global Rank 4\n\nFor information on development of the 2009 SHCAs please refer to: https://myfwc.com/research/gis-new/gis-projects/wildlife/conservation-needs/\n\nFor more information on the 2020 update to SHCAs see the Conservation Needs Assessment Technical Report: https://www.fnai.org/conslands/florida-forever",
 "name": "FFCNA/Strategic_Habitat_Cons_Areas_FF_FFCNA",
 "description": "The 2009 SHCAs, developed by Florida Fish and Wildlife Conservation Commission (FWC), identify areas of habitat on private lands that are essential to sustain a minimum viable population for focal species of terrestrial vertebrates that are not adequately protected on existing conservation lands. In 2020, FNAI worked with FWC to update the SHCAs based on more recent habitat models developed by FWC since 2009, including the addition of potential habitat within existing conservation lands for all 62 focal species. The 2020 SHCAs include habitat data for 62 terrestrial vertebrate species and are prioritized into five priority classes based on rarity (FNAI State and Global ranks). \n\nValue 1 = Priority 1 (Highest): State Rank 1 and Global Rank 1-3 \n\nValue 2 = Priority 2: State Rank 1 and Global Rank 4-5 or State Rank 2 and Global Rank 2-3 \n\nValue 3 = Priority 3: State Rank 2 and Global Rank 4-5 or State Rank 3 and Global Rank 3 \n\nValue 4 = Priority 4: State Rank 3 and Global Rank 4 \n\nValue 5 = Priority 5: State Rank 3 and Global Rank 5 or State Rank 4 and Global Rank 4\n\nFor information on development of the 2009 SHCAs please refer to: https://myfwc.com/research/gis-new/gis-projects/wildlife/conservation-needs/\n\nFor more information on the 2020 update to SHCAs see the Conservation Needs Assessment Technical Report: https://www.fnai.org/conslands/florida-forever",
 "extent": {
  "xmin": -9775330.391914615,
  "ymin": 2778372.6630642083,
  "xmax": -8865235.391914615,
  "ymax": 3657162.6630642083,
  "spatialReference": {
   "wkid": 102100,
   "latestWkid": 3857
  }
 },
 "initialExtent": {
  "xmin": -9775330.391914615,
  "ymin": 2778372.6630642083,
  "xmax": -8865235.391914615,
  "ymax": 3657162.6630642083,
  "spatialReference": {
   "wkid": 102100,
   "latestWkid": 3857
  }
 },
 "fullExtent": {
  "xmin": -9775330.391914615,
  "ymin": 2778372.6630642083,
  "xmax": -8865235.391914615,
  "ymax": 3657162.6630642083,
  "spatialReference": {
   "wkid": 102100,
   "latestWkid": 3857
  }
 },
 "sortableFields": "",
 "bandCount": 1,
 "pixelType": "U8",
 "minValues": [
  1
 ],
 "maxValues": [
  5
 ],
 "meanValues": [
  2.8278676408692
 ],
 "stdvValues": [
  1.2547423085076
 ],
 "hasMultidimensions": false,
 "pixelSizeX": 15,
 "pixelSizeY": 15,
 "meanPixelSize": 15,
 "datasetFormat": "TIFF",
 "uncompressedSize": 3554588378,
 "blockWidth": 128,
 "blockHeight": 128,
 "compressionType": "LZW",
 "bandNames": [
  "Band_1"
 ],
 "allowCopy": true,
 "allowAnalysis": true,
 "itemAccess": false,
 "inspectionCapabilities": "",
 "noDataValue": 15,
 "noDataValues": [
  15
 ],
 "minPixelSize": 0,
 "maxPixelSize": 0,
 "copyrightText": "FWC; FNAI",
 "serviceDataType": "esriImageServiceDataTypeThematic",
 "serviceSourceType": "esriImageServiceSourceTypeDataset",
 "objectIdField": "",
 "fields": [],
 "capabilities": "Mensuration,Image,Metadata",
 "defaultMosaicMethod": "Center",
 "allowedMosaicMethods": "",
 "sortField": "",
 "sortValue": null,
 "sortAscending": true,
 "mosaicOperator": "First",
 "defaultCompressionQuality": 75,
 "defaultResamplingMethod": "Nearest",
 "maxImageHeight": 4100,
 "maxImageWidth": 15000,
 "allowRasterFunction": true,
 "rasterFunctionInfos": [
  {
   "name": "None",
   "description": "",
   "help": ""
  }
 ],
 "rasterTypeInfos": [
  {
   "name": "Raster Dataset",
   "description": "Supports all ArcGIS Raster Datasets",
   "help": ""
  }
 ],
 "mensurationCapabilities": "Basic",
 "hasHistograms": true,
 "hasColormap": false,
 "hasRasterAttributeTable": true,
 "minScale": 0,
 "maxScale": 0,
 "exportTilesAllowed": false,
 "supportsStatistics": false,
 "supportsAdvancedQueries": false,
 "editFieldsInfo": null,
 "ownershipBasedAccessControlForRasters": null,
 "allowComputeTiePoints": false,
 "useStandardizedQueries": true,
 "advancedQueryCapabilities": {
  "useStandardizedQueries": true,
  "supportsStatistics": false,
  "supportsOrderBy": false,
  "supportsDistinct": false,
  "supportsPagination": false
 },
 "spatialReference": {
  "wkid": 102100,
  "latestWkid": 3857
 },
 "resampling": false
}
