View In:
ArcGIS JavaScript
ArcGIS Online Map Viewer
ArcGIS Earth
Service Description: The Florida Ecological Greenways Network (FEGN) identifies areas of opportunity for protecting a statewide network of ecological hubs (large areas of ecological significance) and linkages designed to maintain large landscape-scale ecological functions including priority species habitat and ecosystem services throughout the state. Inclusion in the FEGN means the area is either part of a large landscape-scale “hub”, or an ecological corridor connecting two or more hubs. Hubs indicate core landscapes that are large enough to maintain populations of wide-ranging or fragmentation-sensitive species including black bear or panther and areas that are more likely to support functional ecosystem services. Highest priorities indicate the most significant hubs and corridors in relation to completing a functionally connected statewide ecological network, but all priority levels have conservation value. FEGN Priorities 1, 2, and 3 are the most important for protecting a ecologically functional connected statewide network of public and private conservation lands, and these three priority levels (P1, P2, and P3) are now called the Florida Wildlife Corridor as per the Florida Wildlife Corridor legislation passed and signed into law by the Florida Legislature and Governor and 2021, which makes protection of these wildlife and ecological hubs and corridors a high priority as part of a strategic plan for Florida’s future.
2026 updates include: removal of 2024 developed lands (from CLC v4); promotion of Santa Fe River/Paynes Prairie to Goethe Corridor complex from Priority 4 to Priority 3; promotion of Nassau/St Marys River basin corridor from Priority 4 to Priority 2.
Name: FFCNA/FEGN2026
Description: The Florida Ecological Greenways Network (FEGN) identifies areas of opportunity for protecting a statewide network of ecological hubs (large areas of ecological significance) and linkages designed to maintain large landscape-scale ecological functions including priority species habitat and ecosystem services throughout the state. Inclusion in the FEGN means the area is either part of a large landscape-scale “hub”, or an ecological corridor connecting two or more hubs. Hubs indicate core landscapes that are large enough to maintain populations of wide-ranging or fragmentation-sensitive species including black bear or panther and areas that are more likely to support functional ecosystem services. Highest priorities indicate the most significant hubs and corridors in relation to completing a functionally connected statewide ecological network, but all priority levels have conservation value. FEGN Priorities 1, 2, and 3 are the most important for protecting a ecologically functional connected statewide network of public and private conservation lands, and these three priority levels (P1, P2, and P3) are now called the Florida Wildlife Corridor as per the Florida Wildlife Corridor legislation passed and signed into law by the Florida Legislature and Governor and 2021, which makes protection of these wildlife and ecological hubs and corridors a high priority as part of a strategic plan for Florida’s future.
2026 updates include: removal of 2024 developed lands (from CLC v4); promotion of Santa Fe River/Paynes Prairie to Goethe Corridor complex from Priority 4 to Priority 3; promotion of Nassau/St Marys River basin corridor from Priority 4 to Priority 2.
Single Fused Map Cache: false
Extent:
XMin: -9775330.391914615
YMin: 2778372.6630642083
XMax: -8865235.391914615
YMax: 3657162.6630642083
Spatial Reference: 102100
(3857)
LatestVCSWkid(0)
Initial Extent:
XMin: -9775330.391914615
YMin: 2778372.6630642083
XMax: -8865235.391914615
YMax: 3657162.6630642083
Spatial Reference: 102100
(3857)
LatestVCSWkid(0)
Full Extent:
XMin: -9775330.391914615
YMin: 2778372.6630642083
XMax: -8865235.391914615
YMax: 3657162.6630642083
Spatial Reference: 102100
(3857)
LatestVCSWkid(0)
Pixel Size X: 15.0
Pixel Size Y: 15.0
Band Count: 1
Pixel Type: U8
RasterFunction Infos: {"rasterFunctionInfos": [{
"name": "None",
"description": "",
"help": ""
}]}
Mensuration Capabilities: Basic
Inspection Capabilities:
Has Histograms: true
Has Colormap: false
Has Multi Dimensions : false
Rendering Rule:
Min Scale: 0
Max Scale: 0
Resampling: false
Copyright Text: University of Florida, Center for Landscape Conservation Planning, 2026.
Service Data Type: esriImageServiceDataTypeThematic
Min Values: 1
Max Values: 5
Mean Values: 2.1270723647758
Standard Deviation Values: 1.4236603607024
Object ID Field:
Fields:
None
Default Mosaic Method: Center
Allowed Mosaic Methods:
SortField:
SortValue: null
Mosaic Operator: First
Default Compression Quality: 75
Default Resampling Method: Nearest
Max Record Count: null
Max Image Height: 4100
Max Image Width: 15000
Max Download Image Count: null
Max Mosaic Image Count: null
Allow Raster Function: true
Allow Copy: true
Allow Analysis: true
Allow Compute TiePoints: false
Supports Statistics: false
Supports Advanced Queries: false
Use StandardizedQueries: true
Raster Type Infos:
Name: Raster Dataset
Description: Supports all ArcGIS Raster Datasets
Help:
Has Raster Attribute Table: true
Edit Fields Info: null
Ownership Based AccessControl For Rasters: null
Child Resources:
Info
Raster Attribute Table
Histograms
Statistics
Key Properties
Legend
Raster Function Infos
Supported Operations:
Export Image
Identify
Measure
Compute Histograms
Compute Statistics Histograms
Get Samples
Compute Class Statistics
Query Boundary
Compute Pixel Location
Compute Angles
Validate
Project