View In:
ArcGIS JavaScript
ArcGIS Online Map Viewer
ArcGIS Earth
Service Description: The surface water data identifies significant high quality surface waters of the state, which include the following: Outstanding Florida Waters, National Scenic Waters and National Estuaries, shellfish harvesting areas, seagrass beds, springs, water supply and waters important for imperiled fish. The data are prioritized based on proximity to a water body, stream order, downstream length, basin size and other factors. For more information see the Conservation Needs Assessment Technical Report: https://www.fnai.org/conslands/florida-forever.
Name: FFCNA/Significant_Surface_Waters_FFCNA
Description: The surface water data identifies significant high quality surface waters of the state, which include the following: Outstanding Florida Waters, National Scenic Waters and National Estuaries, shellfish harvesting areas, seagrass beds, springs, water supply and waters important for imperiled fish. The data are prioritized based on proximity to a water body, stream order, downstream length, basin size and other factors. For more information see the Conservation Needs Assessment Technical Report: https://www.fnai.org/conslands/florida-forever.
Single Fused Map Cache: false
Extent:
XMin: -9775330.391914615
YMin: 2778372.6630642083
XMax: -8865235.391914615
YMax: 3657162.6630642083
Spatial Reference: 102100
(3857)
LatestVCSWkid(0)
Initial Extent:
XMin: -9775330.391914615
YMin: 2778372.6630642083
XMax: -8865235.391914615
YMax: 3657162.6630642083
Spatial Reference: 102100
(3857)
LatestVCSWkid(0)
Full Extent:
XMin: -9775330.391914615
YMin: 2778372.6630642083
XMax: -8865235.391914615
YMax: 3657162.6630642083
Spatial Reference: 102100
(3857)
LatestVCSWkid(0)
Pixel Size X: 15.0
Pixel Size Y: 15.0
Band Count: 1
Pixel Type: U8
RasterFunction Infos: {"rasterFunctionInfos": [{
"name": "None",
"description": "",
"help": ""
}]}
Mensuration Capabilities: Basic
Inspection Capabilities:
Has Histograms: true
Has Colormap: false
Has Multi Dimensions : false
Rendering Rule:
Min Scale: 0
Max Scale: 0
Resampling: false
Copyright Text: FNAI
Service Data Type: esriImageServiceDataTypeThematic
Min Values: 1
Max Values: 7
Mean Values: 3.9702222620452
Standard Deviation Values: 1.7109389904244
Object ID Field:
Fields:
None
Default Mosaic Method: Center
Allowed Mosaic Methods:
SortField:
SortValue: null
Mosaic Operator: First
Default Compression Quality: 75
Default Resampling Method: Nearest
Max Record Count: null
Max Image Height: 4100
Max Image Width: 15000
Max Download Image Count: null
Max Mosaic Image Count: null
Allow Raster Function: true
Allow Copy: true
Allow Analysis: true
Allow Compute TiePoints: false
Supports Statistics: false
Supports Advanced Queries: false
Use StandardizedQueries: true
Raster Type Infos:
Name: Raster Dataset
Description: Supports all ArcGIS Raster Datasets
Help:
Has Raster Attribute Table: true
Edit Fields Info: null
Ownership Based AccessControl For Rasters: null
Child Resources:
Info
Raster Attribute Table
Histograms
Statistics
Key Properties
Legend
Raster Function Infos
Supported Operations:
Export Image
Identify
Measure
Compute Histograms
Compute Statistics Histograms
Get Samples
Compute Class Statistics
Query Boundary
Compute Pixel Location
Compute Angles
Validate
Project