View In:
ArcGIS JavaScript
ArcGIS Online Map Viewer
ArcGIS Earth
Service Description: The Sustainable Forestry data layer identifies existing pinelands that are potentially available for forest management. Prioritization is based on 8 criteria set by the Florida Forest Service: whether trees are natural or planted, size of tract, distance to market, site index (average total height that dominant and codominant pine trees obtain), access and operability, burn frequency, years since last burn, and landscape integrity. For more information see the Conservation Needs Assessment Technical Report: https://www.fnai.org/conslands/florida-forever.
Value 1 = Priority 1 (Highest); Value 2 = Priority 2; Value 3 = Priority 3; Value 4 = Priority 4; Value 5 = Priority 5
Name: FFCNA/Sustainable_Forestry_FFCNA
Description: The Sustainable Forestry data layer identifies existing pinelands that are potentially available for forest management. Prioritization is based on 8 criteria set by the Florida Forest Service: whether trees are natural or planted, size of tract, distance to market, site index (average total height that dominant and codominant pine trees obtain), access and operability, burn frequency, years since last burn, and landscape integrity. For more information see the Conservation Needs Assessment Technical Report: https://www.fnai.org/conslands/florida-forever.
Value 1 = Priority 1 (Highest); Value 2 = Priority 2; Value 3 = Priority 3; Value 4 = Priority 4; Value 5 = Priority 5
Single Fused Map Cache: false
Extent:
XMin: -9775330.391914615
YMin: 2778372.6630642083
XMax: -8865235.391914615
YMax: 3657162.6630642083
Spatial Reference: 102100
(3857)
LatestVCSWkid(0)
Initial Extent:
XMin: -9775330.391914615
YMin: 2778372.6630642083
XMax: -8865235.391914615
YMax: 3657162.6630642083
Spatial Reference: 102100
(3857)
LatestVCSWkid(0)
Full Extent:
XMin: -9775330.391914615
YMin: 2778372.6630642083
XMax: -8865235.391914615
YMax: 3657162.6630642083
Spatial Reference: 102100
(3857)
LatestVCSWkid(0)
Pixel Size X: 15.0
Pixel Size Y: 15.0
Band Count: 1
Pixel Type: U8
RasterFunction Infos: {"rasterFunctionInfos": [{
"name": "None",
"description": "",
"help": ""
}]}
Mensuration Capabilities: Basic
Inspection Capabilities:
Has Histograms: true
Has Colormap: false
Has Multi Dimensions : false
Rendering Rule:
Min Scale: 0
Max Scale: 0
Resampling: false
Copyright Text: FNAI; FFS
Service Data Type: esriImageServiceDataTypeThematic
Min Values: 1
Max Values: 5
Mean Values: 3.0814511891828
Standard Deviation Values: 1.2226310660765
Object ID Field:
Fields:
None
Default Mosaic Method: Center
Allowed Mosaic Methods:
SortField:
SortValue: null
Mosaic Operator: First
Default Compression Quality: 75
Default Resampling Method: Nearest
Max Record Count: null
Max Image Height: 4100
Max Image Width: 15000
Max Download Image Count: null
Max Mosaic Image Count: null
Allow Raster Function: true
Allow Copy: true
Allow Analysis: true
Allow Compute TiePoints: false
Supports Statistics: false
Supports Advanced Queries: false
Use StandardizedQueries: true
Raster Type Infos:
Name: Raster Dataset
Description: Supports all ArcGIS Raster Datasets
Help:
Has Raster Attribute Table: true
Edit Fields Info: null
Ownership Based AccessControl For Rasters: null
Child Resources:
Info
Raster Attribute Table
Histograms
Statistics
Key Properties
Legend
Raster Function Infos
Supported Operations:
Export Image
Identify
Measure
Compute Histograms
Compute Statistics Histograms
Get Samples
Compute Class Statistics
Query Boundary
Compute Pixel Location
Compute Angles
Validate
Project