View In:
ArcGIS JavaScript
ArcGIS Online Map Viewer
ArcGIS Earth
Service Description: Florida Forever Measure G1: The number of acres acquired that are available for sustainable forest management; and Measure G2: The number of acres of state-owned forestland managed for economic return in accordance with current Best Management Practices (BMPs). We consulted with forestry experts from the Division of Agriculture and Consumer Services/Florida Forest Service (FFS), the Florida Forestry Association, and the University of Florida on how best to define and represent both measures G1and G2 with existing geographic data. The statutory definition of sustainable forest management includes the ". . . reforestation, managing, growing, nurturing, and harvesting of trees for useful products . . ." (see S253.036, F.S.). According to forestry experts, this definition refers primarily to pine trees. The Sustainable Forestry data layer identifies existing pinelands that are potentially available for forest management. Prioritization is based on 8 criteria set by the forestry experts: whether trees are natural or planted, size of tract, distance to market, site index (average total height that dominant and codominant pine trees obtain), access and operability, burn frequency, years since last burn, and landscape integrity. For a complete description please refer to: the Florida Forever Conservation Needs Assessment Technical Report. Florida Natural Areas Inventory , Tallahassee, Florida (https://www.fnai.org/conslands/florida-forever).
Name: AK_TEST/Sustainable_Forestry_Test2
Description: Florida Forever Measure G1: The number of acres acquired that are available for sustainable forest management; and Measure G2: The number of acres of state-owned forestland managed for economic return in accordance with current Best Management Practices (BMPs). We consulted with forestry experts from the Division of Agriculture and Consumer Services/Florida Forest Service (FFS), the Florida Forestry Association, and the University of Florida on how best to define and represent both measures G1and G2 with existing geographic data. The statutory definition of sustainable forest management includes the ". . . reforestation, managing, growing, nurturing, and harvesting of trees for useful products . . ." (see S253.036, F.S.). According to forestry experts, this definition refers primarily to pine trees. The Sustainable Forestry data layer identifies existing pinelands that are potentially available for forest management. Prioritization is based on 8 criteria set by the forestry experts: whether trees are natural or planted, size of tract, distance to market, site index (average total height that dominant and codominant pine trees obtain), access and operability, burn frequency, years since last burn, and landscape integrity. For a complete description please refer to: the Florida Forever Conservation Needs Assessment Technical Report. Florida Natural Areas Inventory , Tallahassee, Florida (https://www.fnai.org/conslands/florida-forever).
Single Fused Map Cache: false
Extent:
XMin: -9775330.391914615
YMin: 2778372.6630642083
XMax: -8865235.391914615
YMax: 3657162.6630642083
Spatial Reference: 102100
(3857)
LatestVCSWkid(0)
Initial Extent:
XMin: -9775330.391914615
YMin: 2778372.6630642083
XMax: -8865235.391914615
YMax: 3657162.6630642083
Spatial Reference: 102100
(3857)
LatestVCSWkid(0)
Full Extent:
XMin: -9775330.391914615
YMin: 2778372.6630642083
XMax: -8865235.391914615
YMax: 3657162.6630642083
Spatial Reference: 102100
(3857)
LatestVCSWkid(0)
Pixel Size X: 15.0
Pixel Size Y: 15.0
Band Count: 1
Pixel Type: U8
RasterFunction Infos: {"rasterFunctionInfos": [{
"name": "None",
"description": "",
"help": ""
}]}
Mensuration Capabilities: Basic
Inspection Capabilities:
Has Histograms: true
Has Colormap: false
Has Multi Dimensions : false
Rendering Rule:
Min Scale: 0
Max Scale: 0
Copyright Text: Florida Natural Areas Inventory
Service Data Type: esriImageServiceDataTypeThematic
Min Values: 1
Max Values: 5
Mean Values: 3.0814511891828
Standard Deviation Values: 1.2226310660765
Object ID Field:
Fields:
None
Default Mosaic Method: Center
Allowed Mosaic Methods:
SortField:
SortValue: null
Mosaic Operator: First
Default Compression Quality: 75
Default Resampling Method: Nearest
Max Record Count: null
Max Image Height: 4100
Max Image Width: 15000
Max Download Image Count: null
Max Mosaic Image Count: null
Allow Raster Function: true
Allow Copy: true
Allow Analysis: true
Allow Compute TiePoints: false
Supports Statistics: false
Supports Advanced Queries: false
Use StandardizedQueries: true
Raster Type Infos:
Name: Raster Dataset
Description: Supports all ArcGIS Raster Datasets
Help:
Has Raster Attribute Table: true
Edit Fields Info: null
Ownership Based AccessControl For Rasters: null
Child Resources:
Info
Raster Attribute Table
Histograms
Statistics
Key Properties
Legend
Raster Function Infos
Supported Operations:
Export Image
Identify
Measure
Compute Histograms
Compute Statistics Histograms
Get Samples
Compute Class Statistics
Query Boundary
Compute Pixel Location
Compute Angles
Validate
Project