View In:
ArcGIS JavaScript
ArcGIS Online Map Viewer
ArcGIS Earth
Service Description: This dataset was developed to provide scientific decision support and measure progress for preservation of resources associated with Florida Forever Measure D3: The number of acres acquired of groundwater recharge areas critical to springs, sinks, aquifers, other natural systems, or water supply. The data are prioritized based on features that contribute to aquifer vulnerability such as swallets, thickness of the intermediate aquifer confining unit and closed topographical depressions, as well as areas within springshed protection zones and in proximity to public water supply wells. For more information see the Conservation Needs Assessment Technical Report: https://www.fnai.org/conslands/florida-forever.
Value 1 = Priority 1 (Highest); Value 2 = Priority 2; Value 3 = Priority 3; Value 4 = Priority 4; Value 5 = Priority 5; Value 6 = Priority 6
Name: FFCNA/Aquifer_Recharge_FFCNA
Description: This dataset was developed to provide scientific decision support and measure progress for preservation of resources associated with Florida Forever Measure D3: The number of acres acquired of groundwater recharge areas critical to springs, sinks, aquifers, other natural systems, or water supply. The data are prioritized based on features that contribute to aquifer vulnerability such as swallets, thickness of the intermediate aquifer confining unit and closed topographical depressions, as well as areas within springshed protection zones and in proximity to public water supply wells. For more information see the Conservation Needs Assessment Technical Report: https://www.fnai.org/conslands/florida-forever.
Value 1 = Priority 1 (Highest); Value 2 = Priority 2; Value 3 = Priority 3; Value 4 = Priority 4; Value 5 = Priority 5; Value 6 = Priority 6
Single Fused Map Cache: false
Extent:
XMin: -9775330.394554673
YMin: 2778372.6572389035
XMax: -8865235.394554673
YMax: 3657162.6572389035
Spatial Reference: 102100
(3857)
LatestVCSWkid(0)
Initial Extent:
XMin: -9775330.394554673
YMin: 2778372.6572389035
XMax: -8865235.394554673
YMax: 3657162.6572389035
Spatial Reference: 102100
(3857)
LatestVCSWkid(0)
Full Extent:
XMin: -9775330.394554673
YMin: 2778372.6572389035
XMax: -8865235.394554673
YMax: 3657162.6572389035
Spatial Reference: 102100
(3857)
LatestVCSWkid(0)
Pixel Size X: 15.0
Pixel Size Y: 15.0
Band Count: 1
Pixel Type: U8
RasterFunction Infos: {"rasterFunctionInfos": [{
"name": "None",
"description": "",
"help": ""
}]}
Mensuration Capabilities: Basic
Inspection Capabilities:
Has Histograms: true
Has Colormap: false
Has Multi Dimensions : false
Rendering Rule:
Min Scale: 0
Max Scale: 0
Resampling: false
Copyright Text: FGS; FNAI
Service Data Type: esriImageServiceDataTypeThematic
Min Values: 1
Max Values: 6
Mean Values: 4.2256661805382
Standard Deviation Values: 1.4349857731652
Object ID Field:
Fields:
None
Default Mosaic Method: Center
Allowed Mosaic Methods:
SortField:
SortValue: null
Mosaic Operator: First
Default Compression Quality: 75
Default Resampling Method: Nearest
Max Record Count: null
Max Image Height: 4100
Max Image Width: 15000
Max Download Image Count: null
Max Mosaic Image Count: null
Allow Raster Function: true
Allow Copy: true
Allow Analysis: true
Allow Compute TiePoints: false
Supports Statistics: false
Supports Advanced Queries: false
Use StandardizedQueries: true
Raster Type Infos:
Name: Raster Dataset
Description: Supports all ArcGIS Raster Datasets
Help:
Has Raster Attribute Table: true
Edit Fields Info: null
Ownership Based AccessControl For Rasters: null
Child Resources:
Info
Raster Attribute Table
Histograms
Statistics
Key Properties
Legend
Raster Function Infos
Supported Operations:
Export Image
Identify
Measure
Compute Histograms
Compute Statistics Histograms
Get Samples
Compute Class Statistics
Query Boundary
Compute Pixel Location
Compute Angles
Validate
Project