View In:
ArcGIS JavaScript
ArcGIS Online Map Viewer
ArcGIS Earth
Service Description: This layer identifies pinelands that overlap high priority areas for aquifer recharge. For more information see the Conservation Needs Assessment Technical Report: https://www.fnai.org/conslands/florida-forever
This layer is part of the Florida Forever Conservation Needs Assessment, an analysis of the geographic distribution of certain natural resources and resource-based land uses that have been identified in the Florida Forever Act (F.S. 259.105) as needing increased conservation attention. Data for the Needs Assessment are maintained and updated by Florida Natural Areas Inventory under contract to the Florida Department of Environmental Protection and in collaboration with many partners. The data represent a statewide view of resource distributions and are intended to inform state conservation priorities and measure progress of the Florida Forever program in protecting these resources.
Name: FFCNA/Forestland_for_Recharge_FFCNA
Description: This layer identifies pinelands that overlap high priority areas for aquifer recharge. For more information see the Conservation Needs Assessment Technical Report: https://www.fnai.org/conslands/florida-forever
This layer is part of the Florida Forever Conservation Needs Assessment, an analysis of the geographic distribution of certain natural resources and resource-based land uses that have been identified in the Florida Forever Act (F.S. 259.105) as needing increased conservation attention. Data for the Needs Assessment are maintained and updated by Florida Natural Areas Inventory under contract to the Florida Department of Environmental Protection and in collaboration with many partners. The data represent a statewide view of resource distributions and are intended to inform state conservation priorities and measure progress of the Florida Forever program in protecting these resources.
Single Fused Map Cache: false
Extent:
XMin: -9775329.833042514
YMin: 2778372.1337882797
XMax: -8865234.833042514
YMax: 3657162.1337882797
Spatial Reference: 102100
(3857)
LatestVCSWkid(0)
Initial Extent:
XMin: -9775329.833042514
YMin: 2778372.1337882797
XMax: -8865234.833042514
YMax: 3657162.1337882797
Spatial Reference: 102100
(3857)
LatestVCSWkid(0)
Full Extent:
XMin: -9775329.833042514
YMin: 2778372.1337882797
XMax: -8865234.833042514
YMax: 3657162.1337882797
Spatial Reference: 102100
(3857)
LatestVCSWkid(0)
Pixel Size X: 15.0
Pixel Size Y: 15.0
Band Count: 1
Pixel Type: U8
RasterFunction Infos: {"rasterFunctionInfos": [{
"name": "None",
"description": "",
"help": ""
}]}
Mensuration Capabilities: Basic
Inspection Capabilities:
Has Histograms: true
Has Colormap: false
Has Multi Dimensions : false
Rendering Rule:
Min Scale: 0
Max Scale: 0
Resampling: false
Copyright Text: Florida Natural Areas Inventory
Service Data Type: esriImageServiceDataTypeGeneric
Min Values: 1
Max Values: 1
Mean Values: 1
Standard Deviation Values: 0
Object ID Field:
Fields:
None
Default Mosaic Method: Center
Allowed Mosaic Methods:
SortField:
SortValue: null
Mosaic Operator: First
Default Compression Quality: 75
Default Resampling Method: Nearest
Max Record Count: null
Max Image Height: 4100
Max Image Width: 15000
Max Download Image Count: null
Max Mosaic Image Count: null
Allow Raster Function: true
Allow Copy: true
Allow Analysis: true
Allow Compute TiePoints: false
Supports Statistics: false
Supports Advanced Queries: false
Use StandardizedQueries: true
Raster Type Infos:
Name: Raster Dataset
Description: Supports all ArcGIS Raster Datasets
Help:
Has Raster Attribute Table: true
Edit Fields Info: null
Ownership Based AccessControl For Rasters: null
Child Resources:
Info
Raster Attribute Table
Histograms
Statistics
Key Properties
Legend
Raster Function Infos
Supported Operations:
Export Image
Identify
Measure
Compute Histograms
Compute Statistics Histograms
Get Samples
Compute Class Statistics
Query Boundary
Compute Pixel Location
Compute Angles
Validate
Project