View In:
ArcGIS JavaScript
ArcGIS Online Map Viewer
ArcGIS Earth
Service Description: This data layer identifies natural features within the 100-year floodplain as determined by from three primary sources: 1) FEMA Digital Flood Insurance Rate Map database 2001-2017 (DFIRM) for 63 counties; 2) FEMA Digital Q3 Flood Data 1996 for 4 counties; and 3) a surrogate floodplain dataset based on overlap of wetlands and hydric soils for gaps in FEMA data. The data were prioritized based on the degree of “naturalness” of the floodplain, which was estimated based on overlap with Land Use Intensity index and FNAI Potential Natural Areas. For more information see the Conservation Needs Assessment Technical Report: https://www.fnai.org/conslands/florida-forever.
Name: FFCNA/Natural_Floodplain_FFCNA
Description: This data layer identifies natural features within the 100-year floodplain as determined by from three primary sources: 1) FEMA Digital Flood Insurance Rate Map database 2001-2017 (DFIRM) for 63 counties; 2) FEMA Digital Q3 Flood Data 1996 for 4 counties; and 3) a surrogate floodplain dataset based on overlap of wetlands and hydric soils for gaps in FEMA data. The data were prioritized based on the degree of “naturalness” of the floodplain, which was estimated based on overlap with Land Use Intensity index and FNAI Potential Natural Areas. For more information see the Conservation Needs Assessment Technical Report: https://www.fnai.org/conslands/florida-forever.
Single Fused Map Cache: false
Extent:
XMin: -9775330.391914615
YMin: 2778372.6630642083
XMax: -8865235.391914615
YMax: 3657162.6630642083
Spatial Reference: 102100
(3857)
LatestVCSWkid(0)
Initial Extent:
XMin: -9775330.391914615
YMin: 2778372.6630642083
XMax: -8865235.391914615
YMax: 3657162.6630642083
Spatial Reference: 102100
(3857)
LatestVCSWkid(0)
Full Extent:
XMin: -9775330.391914615
YMin: 2778372.6630642083
XMax: -8865235.391914615
YMax: 3657162.6630642083
Spatial Reference: 102100
(3857)
LatestVCSWkid(0)
Pixel Size X: 15.0
Pixel Size Y: 15.0
Band Count: 1
Pixel Type: U8
RasterFunction Infos: {"rasterFunctionInfos": [{
"name": "None",
"description": "",
"help": ""
}]}
Mensuration Capabilities: Basic
Inspection Capabilities:
Has Histograms: true
Has Colormap: false
Has Multi Dimensions : false
Rendering Rule:
Min Scale: 0
Max Scale: 0
Resampling: false
Copyright Text: FNAI
Service Data Type: esriImageServiceDataTypeThematic
Min Values: 1
Max Values: 6
Mean Values: 2.7865681568303
Standard Deviation Values: 1.6513720548099
Object ID Field:
Fields:
None
Default Mosaic Method: Center
Allowed Mosaic Methods:
SortField:
SortValue: null
Mosaic Operator: First
Default Compression Quality: 75
Default Resampling Method: Nearest
Max Record Count: null
Max Image Height: 4100
Max Image Width: 15000
Max Download Image Count: null
Max Mosaic Image Count: null
Allow Raster Function: true
Allow Copy: true
Allow Analysis: true
Allow Compute TiePoints: false
Supports Statistics: false
Supports Advanced Queries: false
Use StandardizedQueries: true
Raster Type Infos:
Name: Raster Dataset
Description: Supports all ArcGIS Raster Datasets
Help:
Has Raster Attribute Table: true
Edit Fields Info: null
Ownership Based AccessControl For Rasters: null
Child Resources:
Info
Raster Attribute Table
Histograms
Statistics
Key Properties
Legend
Raster Function Infos
Supported Operations:
Export Image
Identify
Measure
Compute Histograms
Compute Statistics Histograms
Get Samples
Compute Class Statistics
Query Boundary
Compute Pixel Location
Compute Angles
Validate
Project