View In:
ArcGIS JavaScript
ArcGIS Online Map Viewer
ArcGIS Earth
Service Description: The 2009 SHCAs, developed by Florida Fish and Wildlife Conservation Commission (FWC), identify areas of habitat on private lands that are essential to sustain a minimum viable population for focal species of terrestrial vertebrates that are not adequately protected on existing conservation lands. In 2020, FNAI worked with FWC to update the SHCAs based on more recent habitat models developed by FWC since 2009, including the addition of potential habitat within existing conservation lands for all 62 focal species. The 2020 SHCAs include habitat data for 62 terrestrial vertebrate species and are prioritized into five priority classes based on rarity (FNAI State and Global ranks). Value 1 = Priority 1 (Highest): State Rank 1 and Global Rank 1-3 Value 2 = Priority 2: State Rank 1 and Global Rank 4-5 or State Rank 2 and Global Rank 2-3 Value 3 = Priority 3: State Rank 2 and Global Rank 4-5 or State Rank 3 and Global Rank 3 Value 4 = Priority 4: State Rank 3 and Global Rank 4 Value 5 = Priority 5: State Rank 3 and Global Rank 5 or State Rank 4 and Global Rank 4
For information on development of the 2009 SHCAs please refer to: https://myfwc.com/research/gis-new/gis-projects/wildlife/conservation-needs/
For more information on the 2020 update to SHCAs see the Conservation Needs Assessment Technical Report: https://www.fnai.org/conslands/florida-forever
Name: FFCNA/Strategic_Habitat_Cons_Areas_FF_FFCNA
Description: The 2009 SHCAs, developed by Florida Fish and Wildlife Conservation Commission (FWC), identify areas of habitat on private lands that are essential to sustain a minimum viable population for focal species of terrestrial vertebrates that are not adequately protected on existing conservation lands. In 2020, FNAI worked with FWC to update the SHCAs based on more recent habitat models developed by FWC since 2009, including the addition of potential habitat within existing conservation lands for all 62 focal species. The 2020 SHCAs include habitat data for 62 terrestrial vertebrate species and are prioritized into five priority classes based on rarity (FNAI State and Global ranks). Value 1 = Priority 1 (Highest): State Rank 1 and Global Rank 1-3 Value 2 = Priority 2: State Rank 1 and Global Rank 4-5 or State Rank 2 and Global Rank 2-3 Value 3 = Priority 3: State Rank 2 and Global Rank 4-5 or State Rank 3 and Global Rank 3 Value 4 = Priority 4: State Rank 3 and Global Rank 4 Value 5 = Priority 5: State Rank 3 and Global Rank 5 or State Rank 4 and Global Rank 4
For information on development of the 2009 SHCAs please refer to: https://myfwc.com/research/gis-new/gis-projects/wildlife/conservation-needs/
For more information on the 2020 update to SHCAs see the Conservation Needs Assessment Technical Report: https://www.fnai.org/conslands/florida-forever
Single Fused Map Cache: false
Extent:
XMin: -9775330.391914615
YMin: 2778372.6630642083
XMax: -8865235.391914615
YMax: 3657162.6630642083
Spatial Reference: 102100
(3857)
LatestVCSWkid(0)
Initial Extent:
XMin: -9775330.391914615
YMin: 2778372.6630642083
XMax: -8865235.391914615
YMax: 3657162.6630642083
Spatial Reference: 102100
(3857)
LatestVCSWkid(0)
Full Extent:
XMin: -9775330.391914615
YMin: 2778372.6630642083
XMax: -8865235.391914615
YMax: 3657162.6630642083
Spatial Reference: 102100
(3857)
LatestVCSWkid(0)
Pixel Size X: 15.0
Pixel Size Y: 15.0
Band Count: 1
Pixel Type: U8
RasterFunction Infos: {"rasterFunctionInfos": [{
"name": "None",
"description": "",
"help": ""
}]}
Mensuration Capabilities: Basic
Inspection Capabilities:
Has Histograms: true
Has Colormap: false
Has Multi Dimensions : false
Rendering Rule:
Min Scale: 0
Max Scale: 0
Resampling: false
Copyright Text: FWC; FNAI
Service Data Type: esriImageServiceDataTypeThematic
Min Values: 1
Max Values: 5
Mean Values: 2.8278676408692
Standard Deviation Values: 1.2547423085076
Object ID Field:
Fields:
None
Default Mosaic Method: Center
Allowed Mosaic Methods:
SortField:
SortValue: null
Mosaic Operator: First
Default Compression Quality: 75
Default Resampling Method: Nearest
Max Record Count: null
Max Image Height: 4100
Max Image Width: 15000
Max Download Image Count: null
Max Mosaic Image Count: null
Allow Raster Function: true
Allow Copy: true
Allow Analysis: true
Allow Compute TiePoints: false
Supports Statistics: false
Supports Advanced Queries: false
Use StandardizedQueries: true
Raster Type Infos:
Name: Raster Dataset
Description: Supports all ArcGIS Raster Datasets
Help:
Has Raster Attribute Table: true
Edit Fields Info: null
Ownership Based AccessControl For Rasters: null
Child Resources:
Info
Raster Attribute Table
Histograms
Statistics
Key Properties
Legend
Raster Function Infos
Supported Operations:
Export Image
Identify
Measure
Compute Histograms
Compute Statistics Histograms
Get Samples
Compute Class Statistics
Query Boundary
Compute Pixel Location
Compute Angles
Validate
Project